BEGIN:VCALENDAR
VERSION:2.0
PRODID:-//GKI Immanuel APO Tugu - ECPv6.11.2.1//NONSGML v1.0//EN
CALSCALE:GREGORIAN
METHOD:PUBLISH
X-WR-CALNAME:GKI Immanuel APO Tugu
X-ORIGINAL-URL:https://gki-iat.org
X-WR-CALDESC:Events for GKI Immanuel APO Tugu
REFRESH-INTERVAL;VALUE=DURATION:PT1H
X-Robots-Tag:noindex
X-PUBLISHED-TTL:PT1H
BEGIN:VTIMEZONE
TZID:Asia/Jayapura
BEGIN:STANDARD
TZOFFSETFROM:+0900
TZOFFSETTO:+0900
TZNAME:WIT
DTSTART:20260101T000000
END:STANDARD
END:VTIMEZONE
BEGIN:VEVENT
DTSTART;TZID=Asia/Jayapura:20260421T190000
DTEND;TZID=Asia/Jayapura:20260421T203000
DTSTAMP:20260421T015127
CREATED:20260418T102836Z
LAST-MODIFIED:20260418T102836Z
UID:21215-1776798000-1776803400@gki-iat.org
SUMMARY:Ibadah KSP
DESCRIPTION:RAYON YERUSALEM\n\n\nI\nKel. Bpk. Yunus Warpinggon\nPnt. Hetty Sroyer\n\n\nII\nKel. Ibu Detje Watimena\nPnt. Popi Nuniary\n\n\nIII\nKel. Bpk. Yustinus Sawamenay\nPnt. Edurd Sroyer\n\n\nRAYON BETLEHEM\n\n\nI\nKel. Ibu Yuliana David\nPnt. Reinaldo S. M.\n\n\nII\nKel. Bpk. Anri Antameng\nPnt. Alfius Pangemanan\n\n\nIII\nKel. Bpk. Michael Sampelan\nSym. Syane Mandalika\n\n\nIV\nKel. Bpk. Nyong Oen\nSym. Fince Mayor\n\n\nRAYON KANAAN\n\n\nI\nKel. Bpk. Yunus Sangga\nSym. David Allo Datu\n\n\nII\nKel. Bpk. Soleman Warimilena\nPnt. Servin Sama Rombe\n\n\nRAYON SILOAM\n\n\nI\nKel. Ibu Erni\nSym. Abriani Masengi\n\n\nII\nKel. Bpk. Jhon E. Sipahelut\nSym. Yuharni\n\n\nIII\nKel. Bpk. Dolfinus Fakdawer\nPnt. Anobo Weyai\n\n\nRAYON ELIM\n\n\nI\nKel. Bpk. Fandon Ririmase\nPnt. Yusuf Tangdibangnga\n\n\nII\nKel. Bpk. Rizal Salepang\nSym. Irawati Lantong\n\n\nIII\nKel. Bpk. J. S. Rangan\nPnt. Mariana Patoding\n\n\nRAYON GETSEMANI\n\n\nI\nKel. Ibu Marlina Ibo\nSym. Alfrida Kulla’\n\n\nII\nKel. Bpk. Riswan Atnel\nPnt. Yuli Lete\n\n\nIII\nKel. Bpk. Petrus Sattu\nPnt. Max Samara\n\n\nRAYON HERMON\n\n\nI\nKel. Bpk. Sonny Kespo\nPdt. Johny Ronny Seo\, S.Th.\n\n\nII\nKel. Ibu regina Youmilena\nPnt. Arius Mansawan\n\n\nIII\nKel. Ibu Debora Baransano\nSym. Karlam A. Maniani
URL:https://gki-iat.org/kegiatan/ibadah-ksp-89/
LOCATION:Papua
CATEGORIES:ibadah ksp
END:VEVENT
END:VCALENDAR