BEGIN:VCALENDAR
VERSION:2.0
PRODID:-//GKI Immanuel APO Tugu - ECPv6.11.2.1//NONSGML v1.0//EN
CALSCALE:GREGORIAN
METHOD:PUBLISH
X-ORIGINAL-URL:https://gki-iat.org
X-WR-CALDESC:Events for GKI Immanuel APO Tugu
REFRESH-INTERVAL;VALUE=DURATION:PT1H
X-Robots-Tag:noindex
X-PUBLISHED-TTL:PT1H
BEGIN:VTIMEZONE
TZID:Asia/Jayapura
BEGIN:STANDARD
TZOFFSETFROM:+0900
TZOFFSETTO:+0900
TZNAME:WIT
DTSTART:20240101T000000
END:STANDARD
END:VTIMEZONE
BEGIN:VEVENT
DTSTART;TZID=Asia/Jayapura:20240331T060000
DTEND;TZID=Asia/Jayapura:20240331T073000
DTSTAMP:20260421T194159
CREATED:20240325T063354Z
LAST-MODIFIED:20240325T063354Z
UID:11349-1711864800-1711870200@gki-iat.org
SUMMARY:Ibadah Paskah Tahun 2024
DESCRIPTION:https://www.youtube.com/watch?v=svV29k6RWic
URL:https://gki-iat.org/kegiatan/ibadah-paskah-tahun-2024/
LOCATION:Gedung Gereja GKI Immanuel APO Tugu\, FP73+M3G\, Kota Jayapura\, Papua\, 99112\, Indonesia
CATEGORIES:Ibadah HHBG,ibadah paskah
END:VEVENT
END:VCALENDAR