BEGIN:VCALENDAR
VERSION:2.0
PRODID:-//GKI Immanuel APO Tugu - ECPv6.11.2.1//NONSGML v1.0//EN
CALSCALE:GREGORIAN
METHOD:PUBLISH
X-WR-CALNAME:GKI Immanuel APO Tugu
X-ORIGINAL-URL:https://gki-iat.org
X-WR-CALDESC:Events for GKI Immanuel APO Tugu
REFRESH-INTERVAL;VALUE=DURATION:PT1H
X-Robots-Tag:noindex
X-PUBLISHED-TTL:PT1H
BEGIN:VTIMEZONE
TZID:Asia/Jayapura
BEGIN:STANDARD
TZOFFSETFROM:+0900
TZOFFSETTO:+0900
TZNAME:WIT
DTSTART:20250101T000000
END:STANDARD
END:VTIMEZONE
BEGIN:VEVENT
DTSTART;TZID=Asia/Jayapura:20251225T090000
DTEND;TZID=Asia/Jayapura:20251225T110000
DTSTAMP:20260420T081144
CREATED:20251122T090921Z
LAST-MODIFIED:20251227T024012Z
UID:20105-1766653200-1766660400@gki-iat.org
SUMMARY:Natal I
DESCRIPTION:  \nPengisi Pujian dari Rayon Yerusalem \nDokumentasi
URL:https://gki-iat.org/kegiatan/natal-i-3/
LOCATION:Gedung Gereja GKI Immanuel APO Tugu\, FP73+M3G\, Kota Jayapura\, Papua\, 99112\, Indonesia
CATEGORIES:Ibadah HHBG
END:VEVENT
END:VCALENDAR