BEGIN:VCALENDAR
VERSION:2.0
PRODID:-//GKI Immanuel APO Tugu - ECPv6.11.2.1//NONSGML v1.0//EN
CALSCALE:GREGORIAN
METHOD:PUBLISH
X-ORIGINAL-URL:https://gki-iat.org
X-WR-CALDESC:Events for GKI Immanuel APO Tugu
REFRESH-INTERVAL;VALUE=DURATION:PT1H
X-Robots-Tag:noindex
X-PUBLISHED-TTL:PT1H
BEGIN:VTIMEZONE
TZID:Asia/Jayapura
BEGIN:STANDARD
TZOFFSETFROM:+0900
TZOFFSETTO:+0900
TZNAME:WIT
DTSTART:20260101T000000
END:STANDARD
END:VTIMEZONE
BEGIN:VEVENT
DTSTART;TZID=Asia/Jayapura:20260404T220000
DTEND;TZID=Asia/Jayapura:20260405T010000
DTSTAMP:20260420T012042
CREATED:20260329T222010Z
LAST-MODIFIED:20260329T222010Z
UID:21056-1775340000-1775350800@gki-iat.org
SUMMARY:Malam Puji-pujian
DESCRIPTION:
URL:https://gki-iat.org/kegiatan/malam-puji-pujian-4/
LOCATION:Gedung Gereja GKI Immanuel APO Tugu\, FP73+M3G\, Kota Jayapura\, Papua\, 99112\, Indonesia
CATEGORIES:Ibadah HHBG
END:VEVENT
END:VCALENDAR