BEGIN:VCALENDAR
VERSION:2.0
PRODID:-//GKI Immanuel APO Tugu - ECPv6.11.2.1//NONSGML v1.0//EN
CALSCALE:GREGORIAN
METHOD:PUBLISH
X-WR-CALNAME:GKI Immanuel APO Tugu
X-ORIGINAL-URL:https://gki-iat.org
X-WR-CALDESC:Events for GKI Immanuel APO Tugu
REFRESH-INTERVAL;VALUE=DURATION:PT1H
X-Robots-Tag:noindex
X-PUBLISHED-TTL:PT1H
BEGIN:VTIMEZONE
TZID:Asia/Jayapura
BEGIN:STANDARD
TZOFFSETFROM:+0900
TZOFFSETTO:+0900
TZNAME:WIT
DTSTART:20240101T000000
END:STANDARD
END:VTIMEZONE
BEGIN:VEVENT
DTSTART;TZID=Asia/Jayapura:20260404T220000
DTEND;TZID=Asia/Jayapura:20260405T010000
DTSTAMP:20260419T233708
CREATED:20260329T222010Z
LAST-MODIFIED:20260329T222010Z
UID:21056-1775340000-1775350800@gki-iat.org
SUMMARY:Malam Puji-pujian
DESCRIPTION:
URL:https://gki-iat.org/kegiatan/malam-puji-pujian-4/
LOCATION:Gedung Gereja GKI Immanuel APO Tugu\, FP73+M3G\, Kota Jayapura\, Papua\, 99112\, Indonesia
CATEGORIES:Ibadah HHBG
END:VEVENT
BEGIN:VEVENT
DTSTART;TZID=Asia/Jayapura:20251226T090000
DTEND;TZID=Asia/Jayapura:20251226T110000
DTSTAMP:20260419T233708
CREATED:20251122T091030Z
LAST-MODIFIED:20251227T024337Z
UID:20107-1766739600-1766746800@gki-iat.org
SUMMARY:Natal II
DESCRIPTION:  \nPengisi Pujian dari Rayon Kanaan \nDokumentasi
URL:https://gki-iat.org/kegiatan/natal-ii-3/
LOCATION:Gedung Gereja GKI Immanuel APO Tugu\, FP73+M3G\, Kota Jayapura\, Papua\, 99112\, Indonesia
CATEGORIES:Ibadah HHBG
END:VEVENT
BEGIN:VEVENT
DTSTART;TZID=Asia/Jayapura:20251225T090000
DTEND;TZID=Asia/Jayapura:20251225T110000
DTSTAMP:20260419T233708
CREATED:20251122T090921Z
LAST-MODIFIED:20251227T024012Z
UID:20105-1766653200-1766660400@gki-iat.org
SUMMARY:Natal I
DESCRIPTION:  \nPengisi Pujian dari Rayon Yerusalem \nDokumentasi
URL:https://gki-iat.org/kegiatan/natal-i-3/
LOCATION:Gedung Gereja GKI Immanuel APO Tugu\, FP73+M3G\, Kota Jayapura\, Papua\, 99112\, Indonesia
CATEGORIES:Ibadah HHBG
END:VEVENT
BEGIN:VEVENT
DTSTART;TZID=Asia/Jayapura:20250808T180000
DTEND;TZID=Asia/Jayapura:20250808T200000
DTSTAMP:20260419T233708
CREATED:20250803T095458Z
LAST-MODIFIED:20250809T231227Z
UID:19028-1754676000-1754683200@gki-iat.org
SUMMARY:Ibadah Syukur 71 Tahun GKI Immanuel APO Tugu
DESCRIPTION:Nonton Live streaming \nDokumentasi \n\n\n\n 
URL:https://gki-iat.org/kegiatan/ibadah-syukur-71-tahun-gki-immanuel-apo-tugu/
LOCATION:Gedung Gereja GKI Immanuel APO Tugu\, FP73+M3G\, Kota Jayapura\, Papua\, 99112\, Indonesia
CATEGORIES:Ibadah HHBG
END:VEVENT
BEGIN:VEVENT
DTSTART;TZID=Asia/Jayapura:20250608T060000
DTEND;TZID=Asia/Jayapura:20250608T103000
DTSTAMP:20260419T233708
CREATED:20250607T071145Z
LAST-MODIFIED:20250612T020254Z
UID:18062-1749362400-1749378600@gki-iat.org
SUMMARY:Ibadah Pentakosta
DESCRIPTION:Dokumentasi \n\n			\n				\n			\n			\n				\n			\n			\n				\n			\n			\n				\n			\n			\n				\n			\n			\n				\n			\n			\n				\n			\n			\n				\n			\n		\n\nLive Streaming Pkl. 06.oo WIT. \n\nLive Streaming Pkl. 09.00 WIT.
URL:https://gki-iat.org/kegiatan/ibadah-pentakosta/
LOCATION:Gedung Gereja GKI Immanuel APO Tugu\, FP73+M3G\, Kota Jayapura\, Papua\, 99112\, Indonesia
CATEGORIES:ibadah hari minggu,Ibadah HHBG
END:VEVENT
BEGIN:VEVENT
DTSTART;TZID=Asia/Jayapura:20250529T090000
DTEND;TZID=Asia/Jayapura:20250529T103000
DTSTAMP:20260419T233708
CREATED:20250516T060817Z
LAST-MODIFIED:20250531T071435Z
UID:17862-1748509200-1748514600@gki-iat.org
SUMMARY:Ibadah Kenaikan Yesus Kristus
DESCRIPTION:Dokumentasi \n\n			\n				\n			\n			\n				\n			\n			\n				\n			\n			\n				\n			\n			\n				\n			\n		\n\nLive Streaming
URL:https://gki-iat.org/kegiatan/ibadah-kenaikan-yesus-kristus-2/
LOCATION:Gedung Gereja GKI Immanuel APO Tugu\, FP73+M3G\, Kota Jayapura\, Papua\, 99112\, Indonesia
CATEGORIES:Ibadah HHBG
END:VEVENT
BEGIN:VEVENT
DTSTART;TZID=Asia/Jayapura:20240808T180000
DTEND;TZID=Asia/Jayapura:20240808T210000
DTSTAMP:20260419T233708
CREATED:20240803T075607Z
LAST-MODIFIED:20240809T024020Z
UID:12804-1723140000-1723150800@gki-iat.org
SUMMARY:Ibadah HUT Jemaat GKI Immanuel APO Tugu ke 70 Tahun
DESCRIPTION:Pelayan Firman: Pdt. Johni Ronny Seo\, S.Th. \nNote: \nIbadah PAM yang sedianya dilakukan pada hari dan waktu yang sama\, turut bergabung dalam ibadah ini \n  \nBaca Related post
URL:https://gki-iat.org/kegiatan/ibadah-hut-jemaat-gki-immanuel-apo-tugu-ke-70-tahun/
LOCATION:Gedung Gereja GKI Immanuel APO Tugu\, FP73+M3G\, Kota Jayapura\, Papua\, 99112\, Indonesia
CATEGORIES:Ibadah HHBG
ATTACH;FMTTYPE=image/jpeg:https://gki-iat.org/wp-content/uploads/2022/10/Gedung-gereja-lama-1970-1999.jpg
END:VEVENT
BEGIN:VEVENT
DTSTART;TZID=Asia/Jayapura:20240520T090000
DTEND;TZID=Asia/Jayapura:20240520T120000
DTSTAMP:20260419T233708
CREATED:20240512T061255Z
LAST-MODIFIED:20240512T061255Z
UID:11984-1716195600-1716206400@gki-iat.org
SUMMARY:Ibadah Pentakosta II
DESCRIPTION:Bersama Jemaat-jemaat Klasis Port Numbay Wilayah B
URL:https://gki-iat.org/kegiatan/ibadah-pentakosta-ii/
LOCATION:Kantor DPR Papua\, FP54+9G5\, Jl. Dr. Sam Ratulangi\, Gurabesi\, Kec. Jayapura Utara\, Kota Jayapura\, Papua\,\, 99351\, Indonesia
CATEGORIES:Ibadah HHBG
END:VEVENT
BEGIN:VEVENT
DTSTART;TZID=Asia/Jayapura:20240519T060000
DTEND;TZID=Asia/Jayapura:20240519T110000
DTSTAMP:20260419T233708
CREATED:20240512T060849Z
LAST-MODIFIED:20240518T033953Z
UID:11982-1716098400-1716116400@gki-iat.org
SUMMARY:Ibadah Pentakosta I
DESCRIPTION:Ibadah Pkl. 6.00 WIT. dan Ibadah Pkl. 9.00 WIT. \nBuletin dan Tata Ibadah minggu ini (Hari Raya Pentakosta)\n﻿﻿
URL:https://gki-iat.org/kegiatan/ibadah-pentakosta-i-2/
LOCATION:Gedung Gereja GKI Immanuel APO Tugu\, FP73+M3G\, Kota Jayapura\, Papua\, 99112\, Indonesia
CATEGORIES:ibadah hari minggu,Ibadah HHBG
END:VEVENT
BEGIN:VEVENT
DTSTART;TZID=Asia/Jayapura:20240509T090000
DTEND;TZID=Asia/Jayapura:20240509T110000
DTSTAMP:20260419T233708
CREATED:20240505T040825Z
LAST-MODIFIED:20240505T040825Z
UID:11936-1715245200-1715252400@gki-iat.org
SUMMARY:Ibadah Kenaikan Yesus Kristus
DESCRIPTION:
URL:https://gki-iat.org/kegiatan/ibadah-kenaikan-yesus-kristus/
LOCATION:Gedung Gereja GKI Immanuel APO Tugu\, FP73+M3G\, Kota Jayapura\, Papua\, 99112\, Indonesia
CATEGORIES:Ibadah HHBG
ATTACH;FMTTYPE=image/jpeg:https://gki-iat.org/wp-content/uploads/2022/09/gereja-1.jpg
END:VEVENT
BEGIN:VEVENT
DTSTART;TZID=Asia/Jayapura:20240401T090000
DTEND;TZID=Asia/Jayapura:20240401T110000
DTSTAMP:20260419T233708
CREATED:20240325T063851Z
LAST-MODIFIED:20240325T063930Z
UID:11351-1711962000-1711969200@gki-iat.org
SUMMARY:Ibadah Paskah II
DESCRIPTION:https://www.youtube.com/watch?v=hJVEA0rTkzo
URL:https://gki-iat.org/kegiatan/ibadah-paskah-ii-2/
LOCATION:Gedung Gereja GKI Immanuel APO Tugu\, FP73+M3G\, Kota Jayapura\, Papua\, 99112\, Indonesia
CATEGORIES:Ibadah HHBG,ibadah paskah
END:VEVENT
BEGIN:VEVENT
DTSTART;TZID=Asia/Jayapura:20240331T060000
DTEND;TZID=Asia/Jayapura:20240331T073000
DTSTAMP:20260419T233708
CREATED:20240325T063354Z
LAST-MODIFIED:20240325T063354Z
UID:11349-1711864800-1711870200@gki-iat.org
SUMMARY:Ibadah Paskah Tahun 2024
DESCRIPTION:https://www.youtube.com/watch?v=svV29k6RWic
URL:https://gki-iat.org/kegiatan/ibadah-paskah-tahun-2024/
LOCATION:Gedung Gereja GKI Immanuel APO Tugu\, FP73+M3G\, Kota Jayapura\, Papua\, 99112\, Indonesia
CATEGORIES:Ibadah HHBG,ibadah paskah
END:VEVENT
BEGIN:VEVENT
DTSTART;TZID=Asia/Jayapura:20240330T190000
DTEND;TZID=Asia/Jayapura:20240330T220000
DTSTAMP:20260419T233708
CREATED:20240325T062905Z
LAST-MODIFIED:20240325T065808Z
UID:11347-1711825200-1711836000@gki-iat.org
SUMMARY:Malam Puji-pujian
DESCRIPTION:Tiap Rayon Menyiapkan 1 Pujian. VG/Paduan Suara \nhttps://www.youtube.com/watch?v=R_0AuGlAdRA
URL:https://gki-iat.org/kegiatan/malam-puji-pujian-2/
LOCATION:Gedung Gereja GKI Immanuel APO Tugu\, FP73+M3G\, Kota Jayapura\, Papua\, 99112\, Indonesia
CATEGORIES:Ibadah HHBG
END:VEVENT
BEGIN:VEVENT
DTSTART;TZID=Asia/Jayapura:20240205T190000
DTEND;TZID=Asia/Jayapura:20240205T203000
DTSTAMP:20260419T233708
CREATED:20240127T004550Z
LAST-MODIFIED:20240206T095602Z
UID:10704-1707159600-1707165000@gki-iat.org
SUMMARY:Perayaan HUT Pekabaran Injil di Tanah Papua ke 169
DESCRIPTION:Dokumentasi foto: \n\n		\n			gallery
URL:https://gki-iat.org/kegiatan/perayaan-hut-pekabaran-injil-di-tanah-papua-ke-169/
LOCATION:Gedung Gereja GKI Immanuel APO Tugu\, FP73+M3G\, Kota Jayapura\, Papua\, 99112\, Indonesia
CATEGORIES:Ibadah HHBG
END:VEVENT
END:VCALENDAR