BEGIN:VCALENDAR
VERSION:2.0
PRODID:-//GKI Immanuel APO Tugu - ECPv6.11.2.1//NONSGML v1.0//EN
CALSCALE:GREGORIAN
METHOD:PUBLISH
X-WR-CALNAME:GKI Immanuel APO Tugu
X-ORIGINAL-URL:https://gki-iat.org
X-WR-CALDESC:Events for GKI Immanuel APO Tugu
REFRESH-INTERVAL;VALUE=DURATION:PT1H
X-Robots-Tag:noindex
X-PUBLISHED-TTL:PT1H
BEGIN:VTIMEZONE
TZID:Asia/Jayapura
BEGIN:STANDARD
TZOFFSETFROM:+0900
TZOFFSETTO:+0900
TZNAME:WIT
DTSTART:20240101T000000
END:STANDARD
END:VTIMEZONE
BEGIN:VEVENT
DTSTART;TZID=Asia/Jayapura:20240215T190000
DTEND;TZID=Asia/Jayapura:20240215T203000
DTSTAMP:20260423T194404
CREATED:20240210T021632Z
LAST-MODIFIED:20240210T113348Z
UID:10892-1708023600-1708029000@gki-iat.org
SUMMARY:Ibadah PAM
DESCRIPTION:RAYON I\nRAYON II\nRAYON III\n\n\n@Sdr. Fiser Pangemanan\n@Sdr. Filipus\, Yosina & Agustina\n@Sdr.Kristian Ririmase\n\n\nPel: Pnt. Maria Tusmain\nPel: Sym. David Allo Datu\nPel: Pnt. Max Samara
URL:https://gki-iat.org/kegiatan/ibadah-pam-28/
LOCATION:Papua
CATEGORIES:ibadah PAM
END:VEVENT
BEGIN:VEVENT
DTSTART;TZID=Asia/Jayapura:20240222T190000
DTEND;TZID=Asia/Jayapura:20240222T203000
DTSTAMP:20260423T194404
CREATED:20240217T042427Z
LAST-MODIFIED:20240217T042427Z
UID:10973-1708628400-1708633800@gki-iat.org
SUMMARY:Ibadah PAM
DESCRIPTION:RAYON I\nRAYON II\nRAYON III\n\n\nSdr. Cevin & Deril Pattipeilohy\nSdr. Julianto & Julianti\nSdri. Eka & Putri\n\n\nPel : Pnt. Max Samara\nPel : Pnt. Servin Sama Rombe\nPel : Sym. M. J. Kespo
URL:https://gki-iat.org/kegiatan/ibadah-pam-29/
LOCATION:Papua
CATEGORIES:ibadah PAM
END:VEVENT
END:VCALENDAR