BEGIN:VCALENDAR
VERSION:2.0
PRODID:-//GKI Immanuel APO Tugu - ECPv6.11.2.1//NONSGML v1.0//EN
CALSCALE:GREGORIAN
METHOD:PUBLISH
X-ORIGINAL-URL:https://gki-iat.org
X-WR-CALDESC:Events for GKI Immanuel APO Tugu
REFRESH-INTERVAL;VALUE=DURATION:PT1H
X-Robots-Tag:noindex
X-PUBLISHED-TTL:PT1H
BEGIN:VTIMEZONE
TZID:Asia/Jayapura
BEGIN:STANDARD
TZOFFSETFROM:+0900
TZOFFSETTO:+0900
TZNAME:WIT
DTSTART:20240101T000000
END:STANDARD
END:VTIMEZONE
BEGIN:VEVENT
DTSTART;TZID=Asia/Jayapura:20240516T190000
DTEND;TZID=Asia/Jayapura:20240516T203000
DTSTAMP:20260423T152410
CREATED:20240512T054703Z
LAST-MODIFIED:20240512T054703Z
UID:11963-1715886000-1715891400@gki-iat.org
SUMMARY:Ibadah PAM
DESCRIPTION:RAYON 1\nRAYON 2\nRAYON 3\n\n\n@Sdr. Ricky Sarimole\n@Sdr. Surya & Dwi Bintang\n@Sdri. Fiona Jumita Patinama\n\n\nPel : Pnt. Hetty Sroyer\nPel : Pnt. Oktovianus Hembring\nPel : Sym. Abriani Masengi\n\n\n\nAktifitas lain kami\, silahkan kunjungi: https://gki-iat.org/kegiatan-kegiatan/month/
URL:https://gki-iat.org/kegiatan/ibadah-pam-40/
LOCATION:Papua
CATEGORIES:ibadah PAM
ATTACH;FMTTYPE=image/jpeg:https://gki-iat.org/wp-content/uploads/2023/09/ibadah-pemuda-jpg.webp
END:VEVENT
BEGIN:VEVENT
DTSTART;TZID=Asia/Jayapura:20240523T090000
DTEND;TZID=Asia/Jayapura:20240523T120000
DTSTAMP:20260423T152410
CREATED:20240517T065952Z
LAST-MODIFIED:20240518T034506Z
UID:11999-1716454800-1716465600@gki-iat.org
SUMMARY:Ibadah PAM (Rekreasi)
DESCRIPTION:Pel : Pdt. Johni Ronny Seo\, S.Th
URL:https://gki-iat.org/kegiatan/ibadah-pam-41/
LOCATION:Pantai Base G\, Tanjung Ria\, Jayapura Utara\, Jayapura City\, Papua\, Kota Jayapura\, Papua\,\, 99222\, Indonesia
CATEGORIES:ibadah PAM
ATTACH;FMTTYPE=image/jpeg:https://gki-iat.org/wp-content/uploads/2023/09/ibadah-pemuda-jpg.webp
END:VEVENT
BEGIN:VEVENT
DTSTART;TZID=Asia/Jayapura:20240530T190000
DTEND;TZID=Asia/Jayapura:20240530T203000
DTSTAMP:20260423T152410
CREATED:20240524T043352Z
LAST-MODIFIED:20240525T015223Z
UID:12046-1717095600-1717101000@gki-iat.org
SUMMARY:Ibadah PAM
DESCRIPTION:RAYON 1\nRAYON 2\nRAYON 3\n\n\n@Sdr. Ronald Sitaniapessy D/A\n@Sdr. Andre & Tasya Liunokas\n@Sdr. Reynaldo Mahakena D/A\n\n\nPel : Pnt. Dorce Rara\nPel : Pnt. Ludia Bine\nPel : Pnt. Dina
URL:https://gki-iat.org/kegiatan/ibadah-pam-42/
LOCATION:Papua
CATEGORIES:ibadah PAM
ATTACH;FMTTYPE=image/jpeg:https://gki-iat.org/wp-content/uploads/2023/09/ibadah-pemuda-jpg.webp
END:VEVENT
END:VCALENDAR