BEGIN:VCALENDAR
VERSION:2.0
PRODID:-//GKI Immanuel APO Tugu - ECPv6.11.2.1//NONSGML v1.0//EN
CALSCALE:GREGORIAN
METHOD:PUBLISH
X-ORIGINAL-URL:https://gki-iat.org
X-WR-CALDESC:Events for GKI Immanuel APO Tugu
REFRESH-INTERVAL;VALUE=DURATION:PT1H
X-Robots-Tag:noindex
X-PUBLISHED-TTL:PT1H
BEGIN:VTIMEZONE
TZID:Asia/Jayapura
BEGIN:STANDARD
TZOFFSETFROM:+0900
TZOFFSETTO:+0900
TZNAME:WIT
DTSTART:20240101T000000
END:STANDARD
END:VTIMEZONE
BEGIN:VEVENT
DTSTART;TZID=Asia/Jayapura:20240606T190000
DTEND;TZID=Asia/Jayapura:20240606T203000
DTSTAMP:20260423T140502
CREATED:20240601T045727Z
LAST-MODIFIED:20240601T045727Z
UID:12182-1717700400-1717705800@gki-iat.org
SUMMARY:Ibadah PAM (Gabungan)
DESCRIPTION:Pelayan Firman: Sym. Riyanti
URL:https://gki-iat.org/kegiatan/ibadah-pam-gabungan-10/
LOCATION:Gedung Gereja GKI Immanuel APO Tugu\, FP73+M3G\, Kota Jayapura\, Papua\, 99112\, Indonesia
CATEGORIES:ibadah PAM
ATTACH;FMTTYPE=image/jpeg:https://gki-iat.org/wp-content/uploads/2023/09/ibadah-pemuda-jpg.webp
END:VEVENT
BEGIN:VEVENT
DTSTART;TZID=Asia/Jayapura:20240613T190000
DTEND;TZID=Asia/Jayapura:20240613T203000
DTSTAMP:20260423T140502
CREATED:20240607T050827Z
LAST-MODIFIED:20240608T055842Z
UID:12235-1718305200-1718310600@gki-iat.org
SUMMARY:Ibadah PAM
DESCRIPTION:RAYON 1\nRAYON 2\nRAYON 3\n\n\n@Sdri. Serly Tuflasa\n@Sdr. Ivana\, Tasya & Carles\n@Sdr. Risky Yesaya & Daniel\n\n\nPel : Sym. Nelike P. Dimara\nPel : Sym. David Allo Datu\nPel : Pnt. Yuliana Amsamsyum
URL:https://gki-iat.org/kegiatan/ibadah-pam-43/
LOCATION:Papua
CATEGORIES:ibadah PAM
ATTACH;FMTTYPE=image/jpeg:https://gki-iat.org/wp-content/uploads/2023/09/ibadah-pemuda-jpg.webp
END:VEVENT
BEGIN:VEVENT
DTSTART;TZID=Asia/Jayapura:20240620T190000
DTEND;TZID=Asia/Jayapura:20240620T203000
DTSTAMP:20260423T140502
CREATED:20240614T015904Z
LAST-MODIFIED:20240615T070315Z
UID:12287-1718910000-1718915400@gki-iat.org
SUMMARY:Ibadah PAM
DESCRIPTION:  \n\n\n\nRAYON 1\nRAYON 2\nRAYON 3\n\n\n@Sdr. Ino & Arthur Tuhumena\n@Sdr. Nelfi & Irfa Sangga\n@Sdr. Geo & Noverio\n\n\nPel : Pnt. Jemmy ferdinandus\nPel : Pnt. Anpbp Weyai\nPel : Sym. Sartina Soke’
URL:https://gki-iat.org/kegiatan/ibadah-pam-44/
LOCATION:Papua
CATEGORIES:ibadah PAM
END:VEVENT
BEGIN:VEVENT
DTSTART;TZID=Asia/Jayapura:20240627T190000
DTEND;TZID=Asia/Jayapura:20240627T203000
DTSTAMP:20260423T140502
CREATED:20240622T052559Z
LAST-MODIFIED:20240622T052559Z
UID:12366-1719514800-1719520200@gki-iat.org
SUMMARY:Ibadah PAM
DESCRIPTION:RAYON 1\nRAYON 2\nRAYON 3\n\n\n@Sdr. Habel\,Stevi\,Kevin Mayor\n@Sdr. Yohanis & Selly Depametouw\n@Sdr. Arsen & fenny Lulung\n\n\nPel : Pnt. Yulius Tarukbua\nPel : Sym. M. J. Kespo\nPel : Pnt. Yuli Amsamsyum
URL:https://gki-iat.org/kegiatan/ibadah-pam-45/
LOCATION:Papua
CATEGORIES:ibadah PAM
ATTACH;FMTTYPE=image/jpeg:https://gki-iat.org/wp-content/uploads/2023/09/ibadah-pemuda-jpg.webp
END:VEVENT
END:VCALENDAR