BEGIN:VCALENDAR
VERSION:2.0
PRODID:-//GKI Immanuel APO Tugu - ECPv6.11.2.1//NONSGML v1.0//EN
CALSCALE:GREGORIAN
METHOD:PUBLISH
X-WR-CALNAME:GKI Immanuel APO Tugu
X-ORIGINAL-URL:https://gki-iat.org
X-WR-CALDESC:Events for GKI Immanuel APO Tugu
REFRESH-INTERVAL;VALUE=DURATION:PT1H
X-Robots-Tag:noindex
X-PUBLISHED-TTL:PT1H
BEGIN:VTIMEZONE
TZID:Asia/Jayapura
BEGIN:STANDARD
TZOFFSETFROM:+0900
TZOFFSETTO:+0900
TZNAME:WIT
DTSTART:20240101T000000
END:STANDARD
END:VTIMEZONE
BEGIN:VEVENT
DTSTART;TZID=Asia/Jayapura:20240704T190000
DTEND;TZID=Asia/Jayapura:20240704T203000
DTSTAMP:20260423T122149
CREATED:20240628T055943Z
LAST-MODIFIED:20240629T020643Z
UID:12397-1720119600-1720125000@gki-iat.org
SUMMARY:Ibadah PAM (Gabungan)
DESCRIPTION:Pelayan Firman :  Sym. M. J. Kespo
URL:https://gki-iat.org/kegiatan/ibadah-pam-46/
LOCATION:Gedung Gereja GKI Immanuel APO Tugu\, FP73+M3G\, Kota Jayapura\, Papua\, 99112\, Indonesia
CATEGORIES:ibadah PAM
ATTACH;FMTTYPE=image/jpeg:https://gki-iat.org/wp-content/uploads/2023/09/ibadah-pemuda-jpg.webp
END:VEVENT
BEGIN:VEVENT
DTSTART;TZID=Asia/Jayapura:20240711T190000
DTEND;TZID=Asia/Jayapura:20240711T203000
DTSTAMP:20260423T122149
CREATED:20240706T033906Z
LAST-MODIFIED:20240706T033906Z
UID:12507-1720724400-1720729800@gki-iat.org
SUMMARY:Ibadah PAM
DESCRIPTION:RAYON 1\nRAYON 2\nRAYON 3\n\n\n@Sdr. Alfred Loen\n@Sdri. Alensia Uweubun\n@Sdr. Anggi & Paulus Seseray\n\n\nPel : Sym. Nelike Dimara\nPel : Sym. David Allo Datu\nPel : Sym. Wenny Tappangan
URL:https://gki-iat.org/kegiatan/ibadah-pam-47/
LOCATION:Papua
CATEGORIES:ibadah PAM
END:VEVENT
BEGIN:VEVENT
DTSTART;TZID=Asia/Jayapura:20240718T190000
DTEND;TZID=Asia/Jayapura:20240718T203000
DTSTAMP:20260423T122149
CREATED:20240713T043751Z
LAST-MODIFIED:20240713T043751Z
UID:12617-1721329200-1721334600@gki-iat.org
SUMMARY:Ibadah PAM
DESCRIPTION:RAYON 1\nRAYON 2\nRAYON 3\n\n\n@Sdr. Alfred & Orhi Baab\n@Sdri. Shintia & Rahel Seseray\n@Sdr. Wendi Ebong\n\n\nPel : Pnt. Elisabeth Youwe\nPel : Sym. Yuharni\nPel : Sym. Anita C Mempun
URL:https://gki-iat.org/kegiatan/ibadah-pam-48/
LOCATION:Papua
CATEGORIES:ibadah PAM
ATTACH;FMTTYPE=image/jpeg:https://gki-iat.org/wp-content/uploads/2023/09/ibadah-pemuda-jpg.webp
END:VEVENT
BEGIN:VEVENT
DTSTART;TZID=Asia/Jayapura:20240725T190000
DTEND;TZID=Asia/Jayapura:20240725T203000
DTSTAMP:20260423T122149
CREATED:20240720T004232Z
LAST-MODIFIED:20240720T032446Z
UID:12650-1721934000-1721939400@gki-iat.org
SUMMARY:Ibadah PAM
DESCRIPTION:RAYON 1\nRAYON 2\nRAYON 3\n\n\n@Sdr. Joshua Latumeten\n@Sdr. Yulius T Datu\n@Sdri. Novalia Tora\n\n\nPel : Sym. Mery B Kalembang\nPel : Sym. M. J. Kespo\nPel : Pnt. Sauk Limbong
URL:https://gki-iat.org/kegiatan/ibadah-pam-49/
LOCATION:Papua
CATEGORIES:ibadah PAM
ATTACH;FMTTYPE=image/jpeg:https://gki-iat.org/wp-content/uploads/2023/09/ibadah-pemuda-jpg.webp
END:VEVENT
END:VCALENDAR