BEGIN:VCALENDAR
VERSION:2.0
PRODID:-//GKI Immanuel APO Tugu - ECPv6.11.2.1//NONSGML v1.0//EN
CALSCALE:GREGORIAN
METHOD:PUBLISH
X-ORIGINAL-URL:https://gki-iat.org
X-WR-CALDESC:Events for GKI Immanuel APO Tugu
REFRESH-INTERVAL;VALUE=DURATION:PT1H
X-Robots-Tag:noindex
X-PUBLISHED-TTL:PT1H
BEGIN:VTIMEZONE
TZID:Asia/Jayapura
BEGIN:STANDARD
TZOFFSETFROM:+0900
TZOFFSETTO:+0900
TZNAME:WIT
DTSTART:20240101T000000
END:STANDARD
END:VTIMEZONE
BEGIN:VEVENT
DTSTART;TZID=Asia/Jayapura:20241003T190000
DTEND;TZID=Asia/Jayapura:20241003T203000
DTSTAMP:20260423T074643
CREATED:20240928T035320Z
LAST-MODIFIED:20240928T035320Z
UID:13833-1727982000-1727987400@gki-iat.org
SUMMARY:Ibadah PAM (Gabungan)
DESCRIPTION:Pelayan Firman: Pnt. Max Samara
URL:https://gki-iat.org/kegiatan/ibadah-pam-gabungan-13/
LOCATION:Gedung Gereja GKI Immanuel APO Tugu\, FP73+M3G\, Kota Jayapura\, Papua\, 99112\, Indonesia
CATEGORIES:ibadah PAM
ATTACH;FMTTYPE=image/jpeg:https://gki-iat.org/wp-content/uploads/2023/09/ibadah-pemuda-jpg.webp
END:VEVENT
BEGIN:VEVENT
DTSTART;TZID=Asia/Jayapura:20241010T190000
DTEND;TZID=Asia/Jayapura:20241010T203000
DTSTAMP:20260423T074643
CREATED:20241005T035920Z
LAST-MODIFIED:20241005T035920Z
UID:13913-1728586800-1728592200@gki-iat.org
SUMMARY:Ibadah PAM
DESCRIPTION:
URL:https://gki-iat.org/kegiatan/ibadah-pam-56/
LOCATION:Papua
CATEGORIES:ibadah PAM
ATTACH;FMTTYPE=image/jpeg:https://gki-iat.org/wp-content/uploads/2023/09/ibadah-pemuda-jpg.webp
END:VEVENT
BEGIN:VEVENT
DTSTART;TZID=Asia/Jayapura:20241017T190000
DTEND;TZID=Asia/Jayapura:20241017T203000
DTSTAMP:20260423T074643
CREATED:20241012T071137Z
LAST-MODIFIED:20241012T071137Z
UID:13957-1729191600-1729197000@gki-iat.org
SUMMARY:Ibadah PAM
DESCRIPTION:
URL:https://gki-iat.org/kegiatan/ibadah-pam-57/
LOCATION:Papua
CATEGORIES:ibadah PAM
ATTACH;FMTTYPE=image/jpeg:https://gki-iat.org/wp-content/uploads/2023/09/ibadah-pemuda-jpg.webp
END:VEVENT
BEGIN:VEVENT
DTSTART;TZID=Asia/Jayapura:20241024T190000
DTEND;TZID=Asia/Jayapura:20241024T203000
DTSTAMP:20260423T074643
CREATED:20241019T050801Z
LAST-MODIFIED:20241019T050801Z
UID:14050-1729796400-1729801800@gki-iat.org
SUMMARY:Ibadah PAM
DESCRIPTION:
URL:https://gki-iat.org/kegiatan/ibadah-pam-58/
LOCATION:Papua
CATEGORIES:ibadah PAM
ATTACH;FMTTYPE=image/jpeg:https://gki-iat.org/wp-content/uploads/2023/09/ibadah-pemuda-jpg.webp
END:VEVENT
END:VCALENDAR