BEGIN:VCALENDAR
VERSION:2.0
PRODID:-//GKI Immanuel APO Tugu - ECPv6.11.2.1//NONSGML v1.0//EN
CALSCALE:GREGORIAN
METHOD:PUBLISH
X-ORIGINAL-URL:https://gki-iat.org
X-WR-CALDESC:Events for GKI Immanuel APO Tugu
REFRESH-INTERVAL;VALUE=DURATION:PT1H
X-Robots-Tag:noindex
X-PUBLISHED-TTL:PT1H
BEGIN:VTIMEZONE
TZID:Asia/Jayapura
BEGIN:STANDARD
TZOFFSETFROM:+0900
TZOFFSETTO:+0900
TZNAME:WIT
DTSTART:20240101T000000
END:STANDARD
END:VTIMEZONE
BEGIN:VEVENT
DTSTART;TZID=Asia/Jayapura:20241107T190000
DTEND;TZID=Asia/Jayapura:20241107T203000
DTSTAMP:20260423T060734
CREATED:20241102T141805Z
LAST-MODIFIED:20241102T141805Z
UID:14242-1731006000-1731011400@gki-iat.org
SUMMARY:Ibadah PAM (gabungan)
DESCRIPTION:Pelayan Firman: Pnt. Alfius Pangemanan
URL:https://gki-iat.org/kegiatan/ibadah-pam-gabungan-14/
LOCATION:Gedung Gereja GKI Immanuel APO Tugu\, FP73+M3G\, Kota Jayapura\, Papua\, 99112\, Indonesia
CATEGORIES:ibadah PAM
ATTACH;FMTTYPE=image/jpeg:https://gki-iat.org/wp-content/uploads/2023/09/ibadah-pemuda-jpg.webp
END:VEVENT
BEGIN:VEVENT
DTSTART;TZID=Asia/Jayapura:20241114T190000
DTEND;TZID=Asia/Jayapura:20241114T203000
DTSTAMP:20260423T060734
CREATED:20241109T130823Z
LAST-MODIFIED:20241109T130823Z
UID:14387-1731610800-1731616200@gki-iat.org
SUMMARY:Ibadah PAM
DESCRIPTION:
URL:https://gki-iat.org/kegiatan/ibadah-pam-59/
LOCATION:Papua
CATEGORIES:ibadah PAM
ATTACH;FMTTYPE=image/jpeg:https://gki-iat.org/wp-content/uploads/2023/09/ibadah-pemuda-jpg.webp
END:VEVENT
BEGIN:VEVENT
DTSTART;TZID=Asia/Jayapura:20241121T190000
DTEND;TZID=Asia/Jayapura:20241121T203000
DTSTAMP:20260423T060734
CREATED:20241116T054823Z
LAST-MODIFIED:20241116T054823Z
UID:14462-1732215600-1732221000@gki-iat.org
SUMMARY:Ibadah PAM
DESCRIPTION:
URL:https://gki-iat.org/kegiatan/ibadah-pam-60/
LOCATION:Papua
CATEGORIES:ibadah PAM
ATTACH;FMTTYPE=image/jpeg:https://gki-iat.org/wp-content/uploads/2023/09/ibadah-pemuda-jpg.webp
END:VEVENT
END:VCALENDAR