BEGIN:VCALENDAR
VERSION:2.0
PRODID:-//GKI Immanuel APO Tugu - ECPv6.11.2.1//NONSGML v1.0//EN
CALSCALE:GREGORIAN
METHOD:PUBLISH
X-WR-CALNAME:GKI Immanuel APO Tugu
X-ORIGINAL-URL:https://gki-iat.org
X-WR-CALDESC:Events for GKI Immanuel APO Tugu
REFRESH-INTERVAL;VALUE=DURATION:PT1H
X-Robots-Tag:noindex
X-PUBLISHED-TTL:PT1H
BEGIN:VTIMEZONE
TZID:Asia/Jayapura
BEGIN:STANDARD
TZOFFSETFROM:+0900
TZOFFSETTO:+0900
TZNAME:WIT
DTSTART:20250101T000000
END:STANDARD
END:VTIMEZONE
BEGIN:VEVENT
DTSTART;TZID=Asia/Jayapura:20250306T190000
DTEND;TZID=Asia/Jayapura:20250306T203000
DTSTAMP:20260422T235849
CREATED:20250302T093018Z
LAST-MODIFIED:20250302T093055Z
UID:16723-1741287600-1741293000@gki-iat.org
SUMMARY:Ibadah PAM Gabungan
DESCRIPTION:Pelayan Firman:  Pnt. Reinaldo S. M.
URL:https://gki-iat.org/kegiatan/ibadah-pam-gabungan-16/
LOCATION:Gedung Gereja GKI Immanuel APO Tugu\, FP73+M3G\, Kota Jayapura\, Papua\, 99112\, Indonesia
CATEGORIES:ibadah PAM
END:VEVENT
BEGIN:VEVENT
DTSTART;TZID=Asia/Jayapura:20250313T190000
DTEND;TZID=Asia/Jayapura:20250313T203000
DTSTAMP:20260422T235849
CREATED:20250308T114909Z
LAST-MODIFIED:20250308T115104Z
UID:16868-1741892400-1741897800@gki-iat.org
SUMMARY:Ibadah PAM
DESCRIPTION:RAYON 1\nRAYON 2\nRAYON 3\n\n\n Sdr. Jemi & Hendrik Dimara\nPel : Pnt. Elisabeth Youwe\n Sdri. Enchi\nPel : Pnt. Dorce Rara\n Sdri. Evi Mogan\nPel : Pnt. Sauk Limbong
URL:https://gki-iat.org/kegiatan/ibadah-pam-64/
LOCATION:Papua
CATEGORIES:ibadah PAM
END:VEVENT
BEGIN:VEVENT
DTSTART;TZID=Asia/Jayapura:20250320T190000
DTEND;TZID=Asia/Jayapura:20250320T203000
DTSTAMP:20260422T235849
CREATED:20250315T100945Z
LAST-MODIFIED:20250315T100945Z
UID:17051-1742497200-1742502600@gki-iat.org
SUMMARY:Ibadah PAM
DESCRIPTION:RAYON 1\nRAYON 2\nRAYON 3\n\n\nSdri. Christin Souisa\nSdri. Ivana Habakuk & Adik”\n Sdr. Asyer Linggi\n\n\nPel : Pnt. Yuliana Amsamsyum\nPel : Sym. Nelike P. Dimara\nPel : Pnt. Hetty Sroyer
URL:https://gki-iat.org/kegiatan/ibadah-pam-65/
LOCATION:Papua
CATEGORIES:ibadah PAM
END:VEVENT
BEGIN:VEVENT
DTSTART;TZID=Asia/Jayapura:20250327T190000
DTEND;TZID=Asia/Jayapura:20250327T203000
DTSTAMP:20260422T235849
CREATED:20250322T090034Z
LAST-MODIFIED:20250322T090034Z
UID:17175-1743102000-1743107400@gki-iat.org
SUMMARY:Ibadah PAM
DESCRIPTION:RAYON 1\nRAYON 2\nRAYON 3\n\n\nSdri. Elisabeth Seo\nSdri Nelvi & Ira Sangga\nSdri. Ani & Mery Parura\n\n\nPel : Pnt. ALfius Pangemanan\nPel : Pnt. Ludia Bine\nPel : Pnt. Yuli Lete
URL:https://gki-iat.org/kegiatan/ibadah-pam-66/
LOCATION:Papua
CATEGORIES:ibadah PAM
END:VEVENT
END:VCALENDAR