BEGIN:VCALENDAR
VERSION:2.0
PRODID:-//GKI Immanuel APO Tugu - ECPv6.11.2.1//NONSGML v1.0//EN
CALSCALE:GREGORIAN
METHOD:PUBLISH
X-WR-CALNAME:GKI Immanuel APO Tugu
X-ORIGINAL-URL:https://gki-iat.org
X-WR-CALDESC:Events for GKI Immanuel APO Tugu
REFRESH-INTERVAL;VALUE=DURATION:PT1H
X-Robots-Tag:noindex
X-PUBLISHED-TTL:PT1H
BEGIN:VTIMEZONE
TZID:Asia/Jayapura
BEGIN:STANDARD
TZOFFSETFROM:+0900
TZOFFSETTO:+0900
TZNAME:WIT
DTSTART:20250101T000000
END:STANDARD
END:VTIMEZONE
BEGIN:VEVENT
DTSTART;TZID=Asia/Jayapura:20250501T190000
DTEND;TZID=Asia/Jayapura:20250501T203000
DTSTAMP:20260422T205009
CREATED:20250426T065403Z
LAST-MODIFIED:20250426T073107Z
UID:17691-1746126000-1746131400@gki-iat.org
SUMMARY:Ibadah PAM (gabungan)
DESCRIPTION:Pelayan Firman: Pnt. Alfius Pangemanan
URL:https://gki-iat.org/kegiatan/ibadah-pam-gabungan-18/
LOCATION:Gedung Gereja GKI Immanuel APO Tugu\, FP73+M3G\, Kota Jayapura\, Papua\, 99112\, Indonesia
CATEGORIES:ibadah PAM
END:VEVENT
BEGIN:VEVENT
DTSTART;TZID=Asia/Jayapura:20250508T190000
DTEND;TZID=Asia/Jayapura:20250508T203000
DTSTAMP:20260422T205009
CREATED:20250503T230721Z
LAST-MODIFIED:20250503T230822Z
UID:17729-1746730800-1746736200@gki-iat.org
SUMMARY:Ibadah PAM
DESCRIPTION:RAYON 1\nRAYON 2\nRAYON 3\n\n\n Sdr. Habel\, Stevi\, Kevin M.\nRibka\, Luis\, Enggel W.\nEka Ibo\, Putri T\n\n\nPel : Pnt Anobo Weyai\nPel : Pnt. Oktovianus Hembring\nPel : Pnt. Max Samara
URL:https://gki-iat.org/kegiatan/ibadah-pam-70/
LOCATION:Papua
CATEGORIES:ibadah PAM
END:VEVENT
BEGIN:VEVENT
DTSTART;TZID=Asia/Jayapura:20250515T190000
DTEND;TZID=Asia/Jayapura:20250515T203000
DTSTAMP:20260422T205009
CREATED:20250509T020913Z
LAST-MODIFIED:20250511T004844Z
UID:17755-1747335600-1747341000@gki-iat.org
SUMMARY:Ibadah PAM
DESCRIPTION:RAYON 1\nRAYON 2\nRAYON 3\n\n\n\n\n\n\nSdr. Ramses Korwa\n\n\n\n\n\n\n\n\nSdri. Cantika Dusay\n\n\n\n\n\n\n\n\nSdr. Marcorius Sarungngu\n\n\n\n\n\n\nPel : Pnt. Eduard Sroyer\nPel : Pnt. Oktovianus Hembring\nPel : Sym. Alprida Kulla’
URL:https://gki-iat.org/kegiatan/ibadah-pam-71/
LOCATION:Papua
CATEGORIES:ibadah PAM
END:VEVENT
BEGIN:VEVENT
DTSTART;TZID=Asia/Jayapura:20250522T190000
DTEND;TZID=Asia/Jayapura:20250522T203000
DTSTAMP:20260422T205009
CREATED:20250517T050754Z
LAST-MODIFIED:20250517T051325Z
UID:17864-1747940400-1747945800@gki-iat.org
SUMMARY:Ibadah PAM
DESCRIPTION:Rayon 1\nRayon 2\nRayon 3\n\n\nSdr. Anugra Dwi\nSdr. Andri\, Alfian\, Arnold. T\nSdr. Tenri\, Tesya\, Telma\n\n\nPel : Pnt. Yustina Hursepuny\nPel : Pnt. Servin S. Rombe\nPel : Pnt. Max Samara
URL:https://gki-iat.org/kegiatan/ibadah-pam-72/
LOCATION:Papua
CATEGORIES:ibadah PAM
END:VEVENT
END:VCALENDAR