BEGIN:VCALENDAR
VERSION:2.0
PRODID:-//GKI Immanuel APO Tugu - ECPv6.11.2.1//NONSGML v1.0//EN
CALSCALE:GREGORIAN
METHOD:PUBLISH
X-WR-CALNAME:GKI Immanuel APO Tugu
X-ORIGINAL-URL:https://gki-iat.org
X-WR-CALDESC:Events for GKI Immanuel APO Tugu
REFRESH-INTERVAL;VALUE=DURATION:PT1H
X-Robots-Tag:noindex
X-PUBLISHED-TTL:PT1H
BEGIN:VTIMEZONE
TZID:Asia/Jayapura
BEGIN:STANDARD
TZOFFSETFROM:+0900
TZOFFSETTO:+0900
TZNAME:WIT
DTSTART:20230101T000000
END:STANDARD
END:VTIMEZONE
BEGIN:VEVENT
DTSTART;TZID=Asia/Jayapura:20231119T180000
DTEND;TZID=Asia/Jayapura:20231119T193000
DTSTAMP:20260424T014947
CREATED:20231117T235713Z
LAST-MODIFIED:20231118T042756Z
UID:10178-1700416800-1700422200@gki-iat.org
SUMMARY:Ibadah PAM
DESCRIPTION:Rayon I\nSdri. Ranny Masampe\n\n\nPel : Pnt. Ludia Bine\n\n\nRayon II\nSdri. Jayanti Mandowen\n\n\nPel : Sym. Nelike Dimara
URL:https://gki-iat.org/kegiatan/ibadah-pam-26/
LOCATION:Papua
CATEGORIES:ibadah PAM
ATTACH;FMTTYPE=image/jpeg:https://gki-iat.org/wp-content/uploads/2023/09/ibadah-pemuda-jpg.webp
END:VEVENT
END:VCALENDAR