BEGIN:VCALENDAR
VERSION:2.0
PRODID:-//GKI Immanuel APO Tugu - ECPv6.11.2.1//NONSGML v1.0//EN
CALSCALE:GREGORIAN
METHOD:PUBLISH
X-ORIGINAL-URL:https://gki-iat.org
X-WR-CALDESC:Events for GKI Immanuel APO Tugu
REFRESH-INTERVAL;VALUE=DURATION:PT1H
X-Robots-Tag:noindex
X-PUBLISHED-TTL:PT1H
BEGIN:VTIMEZONE
TZID:Asia/Jayapura
BEGIN:STANDARD
TZOFFSETFROM:+0900
TZOFFSETTO:+0900
TZNAME:WIT
DTSTART:20240101T000000
END:STANDARD
END:VTIMEZONE
BEGIN:VEVENT
DTSTART;TZID=Asia/Jayapura:20240821T190000
DTEND;TZID=Asia/Jayapura:20240821T203000
DTSTAMP:20260423T122503
CREATED:20240817T055354Z
LAST-MODIFIED:20240817T055419Z
UID:13205-1724266800-1724272200@gki-iat.org
SUMMARY:Ibadah PKB
DESCRIPTION:RAYON YERUSALEM\n\n\n@Bpk. Maurits Latumeten\n\n\nPel : Bpk. L. Patty\n\n\nRAYON BETLEHEM\n\n\n@Bpk. Yohanis Ramendey\n\n\nPel : Bpk. Jhon Ursepuny\n\n\nRAYON KANAAN\n\n\n@Bpk. David Allo Datu\n\n\nPel : Pnt. Ludia Bine\n\n\nRAYON SILOAM\n\n\n@Bpk. Marthen Kala\n\n\nPel : Pnt. Anobo Weyai\n\n\nRAYON ELIM\n\n\n@Bpk. Panga Palungan\n\n\nPel : Sym. Irawati Lantong\n\n\nRAYON GETSEMANI\n\n\n@Bpk. Jewelly F Lowing\n\n\nPel : Pnt. Reinaldo S. M\n\n\nRAYON HERMON\n\n\n@Bpk. Vedi Yumilena\n\n\nPel : Pnt. Robert Seseray
URL:https://gki-iat.org/kegiatan/ibadah-pkb-61/
LOCATION:Papua
CATEGORIES:ibadah PAM
END:VEVENT
END:VCALENDAR