BEGIN:VCALENDAR
VERSION:2.0
PRODID:-//GKI Immanuel APO Tugu - ECPv6.11.2.1//NONSGML v1.0//EN
CALSCALE:GREGORIAN
METHOD:PUBLISH
X-ORIGINAL-URL:https://gki-iat.org
X-WR-CALDESC:Events for GKI Immanuel APO Tugu
REFRESH-INTERVAL;VALUE=DURATION:PT1H
X-Robots-Tag:noindex
X-PUBLISHED-TTL:PT1H
BEGIN:VTIMEZONE
TZID:Asia/Jayapura
BEGIN:STANDARD
TZOFFSETFROM:+0900
TZOFFSETTO:+0900
TZNAME:WIT
DTSTART:20250101T000000
END:STANDARD
END:VTIMEZONE
BEGIN:VEVENT
DTSTART;TZID=Asia/Jayapura:20250403T190000
DTEND;TZID=Asia/Jayapura:20250403T203000
DTSTAMP:20260423T001405
CREATED:20250328T235741Z
LAST-MODIFIED:20250329T053918Z
UID:17233-1743706800-1743712200@gki-iat.org
SUMMARY:Ibadah PAM (Gabungan)
DESCRIPTION:Pelayan Firman: Pnt. Max Samara
URL:https://gki-iat.org/kegiatan/ibadah-pam-gabungan-17/
LOCATION:Gedung Gereja GKI Immanuel APO Tugu\, FP73+M3G\, Kota Jayapura\, Papua\, 99112\, Indonesia
CATEGORIES:ibadah PAM
END:VEVENT
END:VCALENDAR