BEGIN:VCALENDAR
VERSION:2.0
PRODID:-//GKI Immanuel APO Tugu - ECPv6.11.2.1//NONSGML v1.0//EN
CALSCALE:GREGORIAN
METHOD:PUBLISH
X-ORIGINAL-URL:https://gki-iat.org
X-WR-CALDESC:Events for GKI Immanuel APO Tugu
REFRESH-INTERVAL;VALUE=DURATION:PT1H
X-Robots-Tag:noindex
X-PUBLISHED-TTL:PT1H
BEGIN:VTIMEZONE
TZID:Asia/Jayapura
BEGIN:STANDARD
TZOFFSETFROM:+0900
TZOFFSETTO:+0900
TZNAME:WIT
DTSTART:20250101T000000
END:STANDARD
END:VTIMEZONE
BEGIN:VEVENT
DTSTART;TZID=Asia/Jayapura:20250417T190000
DTEND;TZID=Asia/Jayapura:20250417T203000
DTSTAMP:20260423T000938
CREATED:20250412T094012Z
LAST-MODIFIED:20250412T094012Z
UID:17464-1744916400-1744921800@gki-iat.org
SUMMARY:Ibadah PAM
DESCRIPTION:RAYON 1\n\n\n\n\n\n\n\n\nRAYON 2\n\n\n\n\nRAYON 3\n\n\n\n\n\n\n Sdri. Lala Msen\n\n\n\n\n\n\n\n\nSdri. Alencia\n\n\n\n\n\n\n\n\nSdr. Harpan & Harpin\n\n\n\n\n\n\nPel : Pnt. Yustina Hursepuny\nPel : Pnt. Servin Sama Rombe\nPel : Pnt. Max Samara
URL:https://gki-iat.org/kegiatan/ibadah-pam-68/
LOCATION:Papua
CATEGORIES:ibadah PAM
END:VEVENT
END:VCALENDAR