BEGIN:VCALENDAR
VERSION:2.0
PRODID:-//GKI Immanuel APO Tugu - ECPv6.11.2.1//NONSGML v1.0//EN
CALSCALE:GREGORIAN
METHOD:PUBLISH
X-WR-CALNAME:GKI Immanuel APO Tugu
X-ORIGINAL-URL:https://gki-iat.org
X-WR-CALDESC:Events for GKI Immanuel APO Tugu
REFRESH-INTERVAL;VALUE=DURATION:PT1H
X-Robots-Tag:noindex
X-PUBLISHED-TTL:PT1H
BEGIN:VTIMEZONE
TZID:Asia/Jayapura
BEGIN:STANDARD
TZOFFSETFROM:+0900
TZOFFSETTO:+0900
TZNAME:WIT
DTSTART:20250101T000000
END:STANDARD
END:VTIMEZONE
BEGIN:VEVENT
DTSTART;TZID=Asia/Jayapura:20250508T190000
DTEND;TZID=Asia/Jayapura:20250508T203000
DTSTAMP:20260422T222141
CREATED:20250503T230721Z
LAST-MODIFIED:20250503T230822Z
UID:17729-1746730800-1746736200@gki-iat.org
SUMMARY:Ibadah PAM
DESCRIPTION:RAYON 1\nRAYON 2\nRAYON 3\n\n\n Sdr. Habel\, Stevi\, Kevin M.\nRibka\, Luis\, Enggel W.\nEka Ibo\, Putri T\n\n\nPel : Pnt Anobo Weyai\nPel : Pnt. Oktovianus Hembring\nPel : Pnt. Max Samara
URL:https://gki-iat.org/kegiatan/ibadah-pam-70/
LOCATION:Papua
CATEGORIES:ibadah PAM
END:VEVENT
END:VCALENDAR