BEGIN:VCALENDAR
VERSION:2.0
PRODID:-//GKI Immanuel APO Tugu - ECPv6.11.2.1//NONSGML v1.0//EN
CALSCALE:GREGORIAN
METHOD:PUBLISH
X-WR-CALNAME:GKI Immanuel APO Tugu
X-ORIGINAL-URL:https://gki-iat.org
X-WR-CALDESC:Events for GKI Immanuel APO Tugu
REFRESH-INTERVAL;VALUE=DURATION:PT1H
X-Robots-Tag:noindex
X-PUBLISHED-TTL:PT1H
BEGIN:VTIMEZONE
TZID:Asia/Jayapura
BEGIN:STANDARD
TZOFFSETFROM:+0900
TZOFFSETTO:+0900
TZNAME:WIT
DTSTART:20250101T000000
END:STANDARD
END:VTIMEZONE
BEGIN:VEVENT
DTSTART;TZID=Asia/Jayapura:20250619T190000
DTEND;TZID=Asia/Jayapura:20250619T203000
DTSTAMP:20260422T205314
CREATED:20250614T001242Z
LAST-MODIFIED:20250614T061210Z
UID:18146-1750359600-1750365000@gki-iat.org
SUMMARY:Ibadah PAM
DESCRIPTION:RAYON I\nRAYON II\nRAYON III\n\n\n Freki Waroy & Adik2\nSurya & Adik2\nJerlin T.Upa\n\n\nPel : Pnt. Yulius Tarukbua\nPel : Sym. Merry B. Kalembang\nPel : Pnt. Yusuf Ranteparura
URL:https://gki-iat.org/kegiatan/ibadah-pam-74/
LOCATION:Papua
CATEGORIES:ibadah PAM
END:VEVENT
END:VCALENDAR