BEGIN:VCALENDAR
VERSION:2.0
PRODID:-//GKI Immanuel APO Tugu - ECPv6.11.2.1//NONSGML v1.0//EN
CALSCALE:GREGORIAN
METHOD:PUBLISH
X-ORIGINAL-URL:https://gki-iat.org
X-WR-CALDESC:Events for GKI Immanuel APO Tugu
REFRESH-INTERVAL;VALUE=DURATION:PT1H
X-Robots-Tag:noindex
X-PUBLISHED-TTL:PT1H
BEGIN:VTIMEZONE
TZID:Asia/Jayapura
BEGIN:STANDARD
TZOFFSETFROM:+0900
TZOFFSETTO:+0900
TZNAME:WIT
DTSTART:20250101T000000
END:STANDARD
END:VTIMEZONE
BEGIN:VEVENT
DTSTART;TZID=Asia/Jayapura:20250717T190000
DTEND;TZID=Asia/Jayapura:20250717T203000
DTSTAMP:20260422T191940
CREATED:20250712T095136Z
LAST-MODIFIED:20250712T095136Z
UID:18652-1752778800-1752784200@gki-iat.org
SUMMARY:Ibadah PAM
DESCRIPTION:RAYON I\nRAYON II\nRAYON III\n\n\nSdr. Elda & Juliano Sroyer\nSdri. Risma Mayor\nSdr. Evan Mangiri\n\n\nPel : Pnt. Yuliana Amsamsyum\nPel : Sym. Mery B Kalembang\nPel : Pnt. Sauk Limbong\n\n\n\n 
URL:https://gki-iat.org/kegiatan/ibadah-pam-77/
LOCATION:Papua
CATEGORIES:ibadah PAM
END:VEVENT
END:VCALENDAR