BEGIN:VCALENDAR
VERSION:2.0
PRODID:-//GKI Immanuel APO Tugu - ECPv6.11.2.1//NONSGML v1.0//EN
CALSCALE:GREGORIAN
METHOD:PUBLISH
X-WR-CALNAME:GKI Immanuel APO Tugu
X-ORIGINAL-URL:https://gki-iat.org
X-WR-CALDESC:Events for GKI Immanuel APO Tugu
REFRESH-INTERVAL;VALUE=DURATION:PT1H
X-Robots-Tag:noindex
X-PUBLISHED-TTL:PT1H
BEGIN:VTIMEZONE
TZID:Asia/Jayapura
BEGIN:STANDARD
TZOFFSETFROM:+0900
TZOFFSETTO:+0900
TZNAME:WIT
DTSTART:20250101T000000
END:STANDARD
END:VTIMEZONE
BEGIN:VEVENT
DTSTART;TZID=Asia/Jayapura:20250807T190000
DTEND;TZID=Asia/Jayapura:20250807T203000
DTSTAMP:20260422T174045
CREATED:20250802T023240Z
LAST-MODIFIED:20250802T100833Z
UID:18967-1754593200-1754598600@gki-iat.org
SUMMARY:Ibadah PAM (gabungan)
DESCRIPTION:Pelayan Firman: Pnt. Yusuf Ranteparura
URL:https://gki-iat.org/kegiatan/ibadah-pam-gabungan-21/
LOCATION:Gedung Gereja GKI Immanuel APO Tugu\, FP73+M3G\, Kota Jayapura\, Papua\, 99112\, Indonesia
CATEGORIES:ibadah PAM
END:VEVENT
END:VCALENDAR