BEGIN:VCALENDAR
VERSION:2.0
PRODID:-//GKI Immanuel APO Tugu - ECPv6.11.2.1//NONSGML v1.0//EN
CALSCALE:GREGORIAN
METHOD:PUBLISH
X-ORIGINAL-URL:https://gki-iat.org
X-WR-CALDESC:Events for GKI Immanuel APO Tugu
REFRESH-INTERVAL;VALUE=DURATION:PT1H
X-Robots-Tag:noindex
X-PUBLISHED-TTL:PT1H
BEGIN:VTIMEZONE
TZID:Asia/Jayapura
BEGIN:STANDARD
TZOFFSETFROM:+0900
TZOFFSETTO:+0900
TZNAME:WIT
DTSTART:20250101T000000
END:STANDARD
END:VTIMEZONE
BEGIN:VEVENT
DTSTART;TZID=Asia/Jayapura:20251016T190000
DTEND;TZID=Asia/Jayapura:20251016T203000
DTSTAMP:20260422T142246
CREATED:20251013T055501Z
LAST-MODIFIED:20251013T055501Z
UID:19690-1760641200-1760646600@gki-iat.org
SUMMARY:Ibadah PAM
DESCRIPTION:RAYON 1\nRAYON 2\nRAYON 3\n\n\n Sdri Annace Samay\nSdr. Agus Sialana\nSdr. Efan Mangiri\n\n\nPF : Pnt. Reinaldo S. M\nPF : Pnt. Servin S. Rombe\nPF : Pnt. Max Samara
URL:https://gki-iat.org/kegiatan/ibadah-pam-86/
LOCATION:Papua
CATEGORIES:ibadah PAM
END:VEVENT
END:VCALENDAR