BEGIN:VCALENDAR
VERSION:2.0
PRODID:-//GKI Immanuel APO Tugu - ECPv6.11.2.1//NONSGML v1.0//EN
CALSCALE:GREGORIAN
METHOD:PUBLISH
X-ORIGINAL-URL:https://gki-iat.org
X-WR-CALDESC:Events for GKI Immanuel APO Tugu
REFRESH-INTERVAL;VALUE=DURATION:PT1H
X-Robots-Tag:noindex
X-PUBLISHED-TTL:PT1H
BEGIN:VTIMEZONE
TZID:Asia/Jayapura
BEGIN:STANDARD
TZOFFSETFROM:+0900
TZOFFSETTO:+0900
TZNAME:WIT
DTSTART:20260101T000000
END:STANDARD
END:VTIMEZONE
BEGIN:VEVENT
DTSTART;TZID=Asia/Jayapura:20260212T190000
DTEND;TZID=Asia/Jayapura:20260212T203000
DTSTAMP:20260422T073252
CREATED:20260213T001756Z
LAST-MODIFIED:20260213T001756Z
UID:20603-1770922800-1770928200@gki-iat.org
SUMMARY:Ibadah PAM
DESCRIPTION:Gedung Gereja\n\n\nPel : Pnt. Alfius Pangemanan\n\n\nKoor. PAM Rayon 2
URL:https://gki-iat.org/kegiatan/ibadah-pam-92/
LOCATION:Papua
CATEGORIES:ibadah PAM
END:VEVENT
END:VCALENDAR