BEGIN:VCALENDAR
VERSION:2.0
PRODID:-//GKI Immanuel APO Tugu - ECPv6.11.2.1//NONSGML v1.0//EN
CALSCALE:GREGORIAN
METHOD:PUBLISH
X-WR-CALNAME:GKI Immanuel APO Tugu
X-ORIGINAL-URL:https://gki-iat.org
X-WR-CALDESC:Events for GKI Immanuel APO Tugu
REFRESH-INTERVAL;VALUE=DURATION:PT1H
X-Robots-Tag:noindex
X-PUBLISHED-TTL:PT1H
BEGIN:VTIMEZONE
TZID:Asia/Jayapura
BEGIN:STANDARD
TZOFFSETFROM:+0900
TZOFFSETTO:+0900
TZNAME:WIT
DTSTART:20260101T000000
END:STANDARD
END:VTIMEZONE
BEGIN:VEVENT
DTSTART;TZID=Asia/Jayapura:20260219T190000
DTEND;TZID=Asia/Jayapura:20260219T203000
DTSTAMP:20260422T072938
CREATED:20260214T114350Z
LAST-MODIFIED:20260214T114350Z
UID:20661-1771527600-1771533000@gki-iat.org
SUMMARY:Ibadah PAM
DESCRIPTION:RAYON 1\nRAYON 2\nRAYON 3\n\n\n Sdr. Wirya & Fadelo S.\n Maria & Joni Fitown\n Sdri. Elani\, Devi\n\n\nPel : Pnt. Elisabeth Youwe\nPel : Pnt. Novi Baulu\nPel : Pdt. Johni Ronny Seo\, S.Th.
URL:https://gki-iat.org/kegiatan/ibadah-pam-93/
LOCATION:Papua
CATEGORIES:ibadah PAM
END:VEVENT
END:VCALENDAR