BEGIN:VCALENDAR
VERSION:2.0
PRODID:-//GKI Immanuel APO Tugu - ECPv6.11.2.1//NONSGML v1.0//EN
CALSCALE:GREGORIAN
METHOD:PUBLISH
X-ORIGINAL-URL:https://gki-iat.org
X-WR-CALDESC:Events for GKI Immanuel APO Tugu
REFRESH-INTERVAL;VALUE=DURATION:PT1H
X-Robots-Tag:noindex
X-PUBLISHED-TTL:PT1H
BEGIN:VTIMEZONE
TZID:Asia/Jayapura
BEGIN:STANDARD
TZOFFSETFROM:+0900
TZOFFSETTO:+0900
TZNAME:WIT
DTSTART:20260101T000000
END:STANDARD
END:VTIMEZONE
BEGIN:VEVENT
DTSTART;TZID=Asia/Jayapura:20260226T190000
DTEND;TZID=Asia/Jayapura:20260226T203000
DTSTAMP:20260422T060402
CREATED:20260221T063827Z
LAST-MODIFIED:20260221T063827Z
UID:20723-1772132400-1772137800@gki-iat.org
SUMMARY:Ibadah PAM
DESCRIPTION:RAYON 1\nRAYON 2\nRAYON 3\n\n\nSdri. Avanda Tapan\nSdr. Lius & Marisa T\nSdri. Astin Kende\n\n\nPel : Sym. Titi Puspitasari\nPel : Sym. Mina Buktosyum\nPel : Pnt. Hetty Sroyer
URL:https://gki-iat.org/kegiatan/ibadah-pam-94/
LOCATION:Papua
CATEGORIES:ibadah PAM
END:VEVENT
END:VCALENDAR