BEGIN:VCALENDAR
VERSION:2.0
PRODID:-//GKI Immanuel APO Tugu - ECPv6.11.2.1//NONSGML v1.0//EN
CALSCALE:GREGORIAN
METHOD:PUBLISH
X-ORIGINAL-URL:https://gki-iat.org
X-WR-CALDESC:Events for GKI Immanuel APO Tugu
REFRESH-INTERVAL;VALUE=DURATION:PT1H
X-Robots-Tag:noindex
X-PUBLISHED-TTL:PT1H
BEGIN:VTIMEZONE
TZID:Asia/Jayapura
BEGIN:STANDARD
TZOFFSETFROM:+0900
TZOFFSETTO:+0900
TZNAME:WIT
DTSTART:20260101T000000
END:STANDARD
END:VTIMEZONE
BEGIN:VEVENT
DTSTART;TZID=Asia/Jayapura:20260312T190000
DTEND;TZID=Asia/Jayapura:20260312T203000
DTSTAMP:20260422T061200
CREATED:20260307T001444Z
LAST-MODIFIED:20260307T061352Z
UID:20947-1773342000-1773347400@gki-iat.org
SUMMARY:Ibadah PAM
DESCRIPTION:RAYON 1\nRAYON 2\nRAYON 3\n\n\nSdr. Ricky & Dian Sarimole\nSdri Shintya & Rahel Seseray\nSdr. Randy Salepang\n\n\nPel : Pnt. Elisabeth Youwe\nPel : Pnt. Hetty Sroyer\nPel : Pnt. Max Samara
URL:https://gki-iat.org/kegiatan/ibadah-pam-95/
LOCATION:Papua
CATEGORIES:ibadah PAM
END:VEVENT
END:VCALENDAR