BEGIN:VCALENDAR
VERSION:2.0
PRODID:-//GKI Immanuel APO Tugu - ECPv6.11.2.1//NONSGML v1.0//EN
CALSCALE:GREGORIAN
METHOD:PUBLISH
X-ORIGINAL-URL:https://gki-iat.org
X-WR-CALDESC:Events for GKI Immanuel APO Tugu
REFRESH-INTERVAL;VALUE=DURATION:PT1H
X-Robots-Tag:noindex
X-PUBLISHED-TTL:PT1H
BEGIN:VTIMEZONE
TZID:Asia/Jayapura
BEGIN:STANDARD
TZOFFSETFROM:+0900
TZOFFSETTO:+0900
TZNAME:WIT
DTSTART:20260101T000000
END:STANDARD
END:VTIMEZONE
BEGIN:VEVENT
DTSTART;TZID=Asia/Jayapura:20260319T190000
DTEND;TZID=Asia/Jayapura:20260319T203000
DTSTAMP:20260422T061124
CREATED:20260315T012523Z
LAST-MODIFIED:20260315T012523Z
UID:20992-1773946800-1773952200@gki-iat.org
SUMMARY:Ibadah PAM
DESCRIPTION:RAYON 1\nRAYON 2\nRAYON 3\n\n\n\n\n\n\nSdri. Elsa Tangketasik\n\n\n\n\n\n\n\n\nSdri. Ribka W. dan Adik”\n\n\n\n\n\n\n\n\nSdri Astin K\n\n\n\n\n\n\nPel : Pnt. Popy Nuniari\nPel : Sym. Abriani Masengi\nPel : Pnt. Elim Fitalaxmi
URL:https://gki-iat.org/kegiatan/ibadah-pam-96/
LOCATION:Papua
CATEGORIES:ibadah PAM
END:VEVENT
END:VCALENDAR