BEGIN:VCALENDAR
VERSION:2.0
PRODID:-//GKI Immanuel APO Tugu - ECPv6.11.2.1//NONSGML v1.0//EN
CALSCALE:GREGORIAN
METHOD:PUBLISH
X-WR-CALNAME:GKI Immanuel APO Tugu
X-ORIGINAL-URL:https://gki-iat.org
X-WR-CALDESC:Events for GKI Immanuel APO Tugu
REFRESH-INTERVAL;VALUE=DURATION:PT1H
X-Robots-Tag:noindex
X-PUBLISHED-TTL:PT1H
BEGIN:VTIMEZONE
TZID:Asia/Jayapura
BEGIN:STANDARD
TZOFFSETFROM:+0900
TZOFFSETTO:+0900
TZNAME:WIT
DTSTART:20260101T000000
END:STANDARD
END:VTIMEZONE
BEGIN:VEVENT
DTSTART;TZID=Asia/Jayapura:20260326T190000
DTEND;TZID=Asia/Jayapura:20260326T203000
DTSTAMP:20260422T060315
CREATED:20260323T120831Z
LAST-MODIFIED:20260323T120831Z
UID:21017-1774551600-1774557000@gki-iat.org
SUMMARY:Ibadah PAM
DESCRIPTION:RAYON 1\nRAYON 2\nRAYON 3\n\n\n\n\n\n\nSdr. Joshua Loen\n\n\n\n\n\n\n\n\nSdri. Chantika Dusay\n\n\n\n\n\n\n\n\n Sdr. Berensina Kayoi\n\n\n\n\n\n\nPel : Sym. Rita Sari\nPel : Pnt. Frits Seseray\nPel : Pnt. Anobo Weyai
URL:https://gki-iat.org/kegiatan/ibadah-pam-97/
LOCATION:Papua
CATEGORIES:ibadah PAM
END:VEVENT
END:VCALENDAR