BEGIN:VCALENDAR
VERSION:2.0
PRODID:-//GKI Immanuel APO Tugu - ECPv6.11.2.1//NONSGML v1.0//EN
CALSCALE:GREGORIAN
METHOD:PUBLISH
X-WR-CALNAME:GKI Immanuel APO Tugu
X-ORIGINAL-URL:https://gki-iat.org
X-WR-CALDESC:Events for GKI Immanuel APO Tugu
REFRESH-INTERVAL;VALUE=DURATION:PT1H
X-Robots-Tag:noindex
X-PUBLISHED-TTL:PT1H
BEGIN:VTIMEZONE
TZID:Asia/Jayapura
BEGIN:STANDARD
TZOFFSETFROM:+0900
TZOFFSETTO:+0900
TZNAME:WIT
DTSTART:20250101T000000
END:STANDARD
END:VTIMEZONE
BEGIN:VEVENT
DTSTART;TZID=Asia/Jayapura:20251113T190000
DTEND;TZID=Asia/Jayapura:20251113T203000
DTSTAMP:20260422T001646
CREATED:20251110T001313Z
LAST-MODIFIED:20251110T001313Z
UID:19955-1763060400-1763065800@gki-iat.org
SUMMARY:Ibadah PAM
DESCRIPTION:RAYON 1\nRAYON 2\nRAYON 3\n\n\n\n\n\n\n Sdr. deril & Calvin P\n\n\n\n\n\n\n\n\nSdr. Yosvina Warimilena\n\n\n\n\n\n\n\n\n –\n\n\n\n\n\n\nPel : Pnt. Elisabeth Youwe\nPel : Sym. Karlan A. Maniani\nPel : Pnt. Sauk Limbong
URL:https://gki-iat.org/kegiatan/ibadah-pam-90/
LOCATION:Papua
CATEGORIES:ibadah PAM
END:VEVENT
BEGIN:VEVENT
DTSTART;TZID=Asia/Jayapura:20251106T190000
DTEND;TZID=Asia/Jayapura:20251106T203000
DTSTAMP:20260422T001646
CREATED:20251103T071818Z
LAST-MODIFIED:20251103T071818Z
UID:19930-1762455600-1762461000@gki-iat.org
SUMMARY:Ibadah PAM
DESCRIPTION:Pel : Pnt. Oktovianus Hembring
URL:https://gki-iat.org/kegiatan/ibadah-pam-89/
LOCATION:Gedung Gereja GKI Immanuel APO Tugu\, FP73+M3G\, Kota Jayapura\, Papua\, 99112\, Indonesia
CATEGORIES:ibadah PAM
END:VEVENT
BEGIN:VEVENT
DTSTART;TZID=Asia/Jayapura:20251030T190000
DTEND;TZID=Asia/Jayapura:20251030T203000
DTSTAMP:20260422T001646
CREATED:20251024T233801Z
LAST-MODIFIED:20251025T215910Z
UID:19836-1761850800-1761856200@gki-iat.org
SUMMARY:Ibadah PAM
DESCRIPTION:RAYON 1\nRAYON 2\nRAYON 3\n\n\n\n\n\n\n Sdr. Ananda Pangloli\n\n\n\n\n\n\n\n\nSdr. Andri Leonokas dan Adik\n\n\n\n\n\n\n\n\nSdr. Raju Randi Risky\n\n\n\n\n\n\nPF : Sym. Syane Mandalika\nPF : Pnt. Ludia BIne\nPF : Pnt. Hetty Sroyer
URL:https://gki-iat.org/kegiatan/ibadah-pam-88/
LOCATION:Papua
CATEGORIES:ibadah PAM
END:VEVENT
BEGIN:VEVENT
DTSTART;TZID=Asia/Jayapura:20251023T190000
DTEND;TZID=Asia/Jayapura:20251023T203000
DTSTAMP:20260422T001646
CREATED:20251018T131519Z
LAST-MODIFIED:20251018T131519Z
UID:19749-1761246000-1761251400@gki-iat.org
SUMMARY:Ibadah PAM
DESCRIPTION:RAYON 1\nRAYON 2\nRAYON 3\n\n\n\n\n\n\n Sdri. Elsa & Yolanda Haay\n\n\n\n\n\n\n\n\nSdr. Emanuel Mansawan\n\n\n\n\n\n\n\n\n Sdri. Rahel Sulo\n\n\n\n\n\n\nPF : Sym. TIti Puspitasari\nPF : Pnt. Anobo Weyai\nPF : Pnt. Yusuf Ranteparura
URL:https://gki-iat.org/kegiatan/ibadah-pam-87/
LOCATION:Papua
CATEGORIES:ibadah PAM
END:VEVENT
BEGIN:VEVENT
DTSTART;TZID=Asia/Jayapura:20251016T190000
DTEND;TZID=Asia/Jayapura:20251016T203000
DTSTAMP:20260422T001646
CREATED:20251013T055501Z
LAST-MODIFIED:20251013T055501Z
UID:19690-1760641200-1760646600@gki-iat.org
SUMMARY:Ibadah PAM
DESCRIPTION:RAYON 1\nRAYON 2\nRAYON 3\n\n\n Sdri Annace Samay\nSdr. Agus Sialana\nSdr. Efan Mangiri\n\n\nPF : Pnt. Reinaldo S. M\nPF : Pnt. Servin S. Rombe\nPF : Pnt. Max Samara
URL:https://gki-iat.org/kegiatan/ibadah-pam-86/
LOCATION:Papua
CATEGORIES:ibadah PAM
END:VEVENT
BEGIN:VEVENT
DTSTART;TZID=Asia/Jayapura:20251009T190000
DTEND;TZID=Asia/Jayapura:20251009T203000
DTSTAMP:20260422T001646
CREATED:20251004T104520Z
LAST-MODIFIED:20251004T104520Z
UID:19603-1760036400-1760041800@gki-iat.org
SUMMARY:Ibadah PAM
DESCRIPTION:RAYON 1\nRAYON 2\nRAYON 3\n\n\nSdri. Elsa haay & Adik”\nSdr. Welly & Adik”\n–\n\n\nPel : Sym. Aksamina F. Nusa\nPel : Pdt. Johni R. Seo\, S.Th\nPel : Pnt. Elim Fitalaxmi
URL:https://gki-iat.org/kegiatan/ibadah-pam-85/
LOCATION:Papua
CATEGORIES:ibadah PAM
END:VEVENT
BEGIN:VEVENT
DTSTART;TZID=Asia/Jayapura:20251002T190000
DTEND;TZID=Asia/Jayapura:20251002T203000
DTSTAMP:20260422T001646
CREATED:20250927T132641Z
LAST-MODIFIED:20250927T132826Z
UID:19498-1759431600-1759437000@gki-iat.org
SUMMARY:Ibadah PAM (gabungan)
DESCRIPTION:Pelayan Firman: Pnt. Anobo Weyai
URL:https://gki-iat.org/kegiatan/ibadah-pam-gabungan-23/
LOCATION:GSM Elim
CATEGORIES:ibadah PAM
END:VEVENT
BEGIN:VEVENT
DTSTART;TZID=Asia/Jayapura:20250925T190000
DTEND;TZID=Asia/Jayapura:20250925T203000
DTSTAMP:20260422T001646
CREATED:20250920T015440Z
LAST-MODIFIED:20250920T094250Z
UID:19450-1758826800-1758832200@gki-iat.org
SUMMARY:Ibadah PAM
DESCRIPTION:RAYON 1\nRAYON 2\nRAYON 3\n\n\n\n\n\n\n Sdr. Rio Yomilena\n\n\n\n\n\n\n\n\nSdr. Juanito Kaloh\n\n\n\n\n\n\n\n\n Sdri. Novalita Tora\n\n\n\n\n\n\nPel : Sym. TIti Puspitasari\nPel : Pnt. Anobo Weyai\nPel : Pnt. Yusuf Rante Parura
URL:https://gki-iat.org/kegiatan/ibadah-pam-84/
LOCATION:Papua
CATEGORIES:ibadah PAM
END:VEVENT
BEGIN:VEVENT
DTSTART;TZID=Asia/Jayapura:20250918T190000
DTEND;TZID=Asia/Jayapura:20250918T203000
DTSTAMP:20260422T001646
CREATED:20250913T050037Z
LAST-MODIFIED:20250913T050205Z
UID:19399-1758222000-1758227400@gki-iat.org
SUMMARY:Ibadah PAM
DESCRIPTION:RAYON 1\nRAYON 2\nRAYON 3\n\n\n\n\n\n\nSdr. Alfred Loen\n\n\n\n\n\n\n\n\nSdr. Edison Hembring\n\n\n\n\n\n\n\n\nSdr. Evan & Widia Tasik\n\n\n\n\n\n\nPel : Pnt. Reinaldo S. M\nPel : Pnt. Servin S. Rombe\nPel : Pnt. Max Samara
URL:https://gki-iat.org/kegiatan/ibadah-pam-83/
LOCATION:Papua
CATEGORIES:ibadah PAM
END:VEVENT
BEGIN:VEVENT
DTSTART;TZID=Asia/Jayapura:20250911T190000
DTEND;TZID=Asia/Jayapura:20250911T203000
DTSTAMP:20260422T001646
CREATED:20250906T045958Z
LAST-MODIFIED:20250906T045958Z
UID:19341-1757617200-1757622600@gki-iat.org
SUMMARY:Ibadah PAM
DESCRIPTION:RAYON 1\n\n\n\n\n\n\n\n\nRAYON 2\n\n\n\n\nRAYON 3\n\n\n\n\n\n\nSdri. Vio Mansawan\n\n\n\n\n\n\n\n\nSdr. Jefi Tammu\n\n\n\n\n\n\n\n\nSdri Rifa Febriyanti\n\n\n\n\n\n\nPel : Pnt. Popy Nuniary\nPel : Pnt. Arius Mansawan\nPel : Pnt. Novita Baulu
URL:https://gki-iat.org/kegiatan/ibadah-pam-82/
LOCATION:Papua
CATEGORIES:ibadah PAM
END:VEVENT
BEGIN:VEVENT
DTSTART;TZID=Asia/Jayapura:20250904T190000
DTEND;TZID=Asia/Jayapura:20250904T203000
DTSTAMP:20260422T001646
CREATED:20250830T004118Z
LAST-MODIFIED:20250830T004118Z
UID:19233-1757012400-1757017800@gki-iat.org
SUMMARY:Ibadah PAM (gabungan)
DESCRIPTION:Pelayan Firman: Reinaldo S. M.
URL:https://gki-iat.org/kegiatan/ibadah-pam-gabungan-22/
LOCATION:Gedung Gereja GKI Immanuel APO Tugu\, FP73+M3G\, Kota Jayapura\, Papua\, 99112\, Indonesia
CATEGORIES:ibadah PAM
END:VEVENT
BEGIN:VEVENT
DTSTART;TZID=Asia/Jayapura:20250828T190000
DTEND;TZID=Asia/Jayapura:20250828T203000
DTSTAMP:20260422T001646
CREATED:20250823T141213Z
LAST-MODIFIED:20250823T141213Z
UID:19180-1756407600-1756413000@gki-iat.org
SUMMARY:Ibadah PAM
DESCRIPTION:RAYON 1\n\n\n\n\n\n\n\n\nRAYON 2\n\n\n\n\nRAYON 3\n\n\n\n\n\n\n Sdr. Yohan & Hilda M\n\n\n\n\n\n\n\n\nSdr. Noberto Edar Padatu\n\n\n\n\n\n\n\n\n Sdri. Agnes Poli\n\n\n\n\n\n\nPel : Sym. Titi Puspitasari\nPel :  Pnt. Anobo Weyai\nPel : Pnt. Yusuf Ranteparura
URL:https://gki-iat.org/kegiatan/ibadah-pam-81/
LOCATION:Papua
CATEGORIES:ibadah PAM
END:VEVENT
BEGIN:VEVENT
DTSTART;TZID=Asia/Jayapura:20250821T190000
DTEND;TZID=Asia/Jayapura:20250821T203000
DTSTAMP:20260422T001646
CREATED:20250816T023827Z
LAST-MODIFIED:20250816T033742Z
UID:19117-1755802800-1755808200@gki-iat.org
SUMMARY:Ibadah PAM
DESCRIPTION:RAYON 1\n\n\n\n\n\n\n\n\nRAYON 2\n\n\n\n\nRAYON 3\n\n\n\n\n\n\n Sdr. Ariel Manuhutu\n\n\n\n\n\n\n\n\nSdr. Noberto Edar Padatu\n\n\n\n\n\n\n\n\nSdr. Kristian & Saron RIrimase\n\n\n\n\n\n\nPel : Sym. Syane Mandalika\nPel : Pnt. Dorce Rara\nPel : Pnt. Elim Fitalaxmi
URL:https://gki-iat.org/kegiatan/ibadah-pam-80/
LOCATION:Papua
CATEGORIES:ibadah PAM
END:VEVENT
BEGIN:VEVENT
DTSTART;TZID=Asia/Jayapura:20250814T190000
DTEND;TZID=Asia/Jayapura:20250814T203000
DTSTAMP:20260422T001646
CREATED:20250810T001156Z
LAST-MODIFIED:20250810T001456Z
UID:19084-1755198000-1755203400@gki-iat.org
SUMMARY:Ibadah PAM
DESCRIPTION:RAYON 1\n\n\n\n\nRAYON 2\n\n\n\n\nRAYON 3\n\n\n\n\n\n\n Yoman & Risma Ssahuleka\n\n\n\n\n\n\n\n\nDestty Mayor\n\n\n\n\n\n\n\n\nBerensina Kayoi\n\n\n\n\n\n\nPel : Sym. Rita Sari\nPel : Pnt. Reinaldo S. M\nPel : Pnt. Sauk Limbong
URL:https://gki-iat.org/kegiatan/ibadah-pam-79/
LOCATION:Papua
CATEGORIES:ibadah PAM
END:VEVENT
BEGIN:VEVENT
DTSTART;TZID=Asia/Jayapura:20250807T190000
DTEND;TZID=Asia/Jayapura:20250807T203000
DTSTAMP:20260422T001646
CREATED:20250802T023240Z
LAST-MODIFIED:20250802T100833Z
UID:18967-1754593200-1754598600@gki-iat.org
SUMMARY:Ibadah PAM (gabungan)
DESCRIPTION:Pelayan Firman: Pnt. Yusuf Ranteparura
URL:https://gki-iat.org/kegiatan/ibadah-pam-gabungan-21/
LOCATION:Gedung Gereja GKI Immanuel APO Tugu\, FP73+M3G\, Kota Jayapura\, Papua\, 99112\, Indonesia
CATEGORIES:ibadah PAM
END:VEVENT
BEGIN:VEVENT
DTSTART;TZID=Asia/Jayapura:20250724T190000
DTEND;TZID=Asia/Jayapura:20250724T203000
DTSTAMP:20260422T001646
CREATED:20250719T230102Z
LAST-MODIFIED:20250719T233713Z
UID:18761-1753383600-1753389000@gki-iat.org
SUMMARY:Ibadah PAM
DESCRIPTION:RAYON I\n\n\n\n\nRAYON II\n\n\n\n\nRAYON III\n\n\n\n\n\n\n\n\n\n\nSdr. Romi Dimara & Adik\n\n\n\n\n\n\n\n\nSdr. Brian Mallisa\n\n\n\n\n\n\n\n\nSdri. Kezia Ranteparura\n\n\n\n\n\n\nPel : Pnt. Hetty Sroyer\nPel : Pnt. Anobo Weyai\nPel : Pnt. Max Samara
URL:https://gki-iat.org/kegiatan/ibadah-pam-78/
LOCATION:Papua
CATEGORIES:ibadah PAM
END:VEVENT
BEGIN:VEVENT
DTSTART;TZID=Asia/Jayapura:20250717T190000
DTEND;TZID=Asia/Jayapura:20250717T203000
DTSTAMP:20260422T001646
CREATED:20250712T095136Z
LAST-MODIFIED:20250712T095136Z
UID:18652-1752778800-1752784200@gki-iat.org
SUMMARY:Ibadah PAM
DESCRIPTION:RAYON I\nRAYON II\nRAYON III\n\n\nSdr. Elda & Juliano Sroyer\nSdri. Risma Mayor\nSdr. Evan Mangiri\n\n\nPel : Pnt. Yuliana Amsamsyum\nPel : Sym. Mery B Kalembang\nPel : Pnt. Sauk Limbong\n\n\n\n 
URL:https://gki-iat.org/kegiatan/ibadah-pam-77/
LOCATION:Papua
CATEGORIES:ibadah PAM
END:VEVENT
BEGIN:VEVENT
DTSTART;TZID=Asia/Jayapura:20250710T190000
DTEND;TZID=Asia/Jayapura:20250710T203000
DTSTAMP:20260422T001646
CREATED:20250705T124048Z
LAST-MODIFIED:20250705T124048Z
UID:18539-1752174000-1752179400@gki-iat.org
SUMMARY:Ibadah PAM
DESCRIPTION:PAM Rayon I\n\n\n\n\nPAM Rayon II\n\n\n\n\nPAM Rayon III\n\n\n\n\n\n\n\n\n\n\nSdr. Albert Waimuri\n\n\n\n\n\n\n\n\nSdr. Yulius Tandidatu\n\n\n\n\n\n\n\n\nSdri. Sophia Seseray\n\n\n\n\n\n\nPel : Pnt. Aksamina F. Nusa\nPel : Pnt. Novita Baulu\nPel : Pnt. Elim FItalaxmi
URL:https://gki-iat.org/kegiatan/ibadah-pam-76/
LOCATION:Papua
CATEGORIES:ibadah PAM
END:VEVENT
BEGIN:VEVENT
DTSTART;TZID=Asia/Jayapura:20250703T190000
DTEND;TZID=Asia/Jayapura:20250703T203000
DTSTAMP:20260422T001646
CREATED:20250628T105837Z
LAST-MODIFIED:20250628T105837Z
UID:18396-1751569200-1751574600@gki-iat.org
SUMMARY:Ibadah PAM (Gabungan)
DESCRIPTION:Pelayan Firman: Pdt. Johni R. Seo\, S.Th.
URL:https://gki-iat.org/kegiatan/ibadah-pam-gabungan-20/
LOCATION:Gedung Gereja GKI Immanuel APO Tugu\, FP73+M3G\, Kota Jayapura\, Papua\, 99112\, Indonesia
CATEGORIES:ibadah PAM
END:VEVENT
BEGIN:VEVENT
DTSTART;TZID=Asia/Jayapura:20250626T190000
DTEND;TZID=Asia/Jayapura:20250626T203000
DTSTAMP:20260422T001646
CREATED:20250621T055002Z
LAST-MODIFIED:20250621T055002Z
UID:18258-1750964400-1750969800@gki-iat.org
SUMMARY:Ibadah PAM
DESCRIPTION:RAYON I\n\n\n\n\nRAYON II\n\n\n\n\nRAYON III\n\n\n\n\n\n\n\n\n\n\nSdr. Willy Sroyer & Adik\n\n\n\n\n\n\n\n\n Sdri. Shintia & Rahel Seseray\n\n\n\n\n\n\n\n\nSdri. Yurlita Padanun\n\n\n\n\n\n\nPel : Pnt. Hetty Sroyer\nPel : Pnt. Anobo Weyai\nPel : Pnt. Yusuf Ranteparura
URL:https://gki-iat.org/kegiatan/ibadah-pam-75/
LOCATION:Papua
CATEGORIES:ibadah PAM
END:VEVENT
BEGIN:VEVENT
DTSTART;TZID=Asia/Jayapura:20250619T190000
DTEND;TZID=Asia/Jayapura:20250619T203000
DTSTAMP:20260422T001646
CREATED:20250614T001242Z
LAST-MODIFIED:20250614T061210Z
UID:18146-1750359600-1750365000@gki-iat.org
SUMMARY:Ibadah PAM
DESCRIPTION:RAYON I\nRAYON II\nRAYON III\n\n\n Freki Waroy & Adik2\nSurya & Adik2\nJerlin T.Upa\n\n\nPel : Pnt. Yulius Tarukbua\nPel : Sym. Merry B. Kalembang\nPel : Pnt. Yusuf Ranteparura
URL:https://gki-iat.org/kegiatan/ibadah-pam-74/
LOCATION:Papua
CATEGORIES:ibadah PAM
END:VEVENT
BEGIN:VEVENT
DTSTART;TZID=Asia/Jayapura:20250612T190000
DTEND;TZID=Asia/Jayapura:20250612T203000
DTSTAMP:20260422T001646
CREATED:20250607T072123Z
LAST-MODIFIED:20250607T072123Z
UID:18070-1749754800-1749760200@gki-iat.org
SUMMARY:Ibadah PAM
DESCRIPTION:RAYON I\n\n\n\n\n\n\n\n\nRAYON II\n\n\n\n\nRAYON III\n\n\n\n\n\n\nSdr. Rivaldo Nuniary\n\n\n\n\n\n\n\n\nSdr. Yosias Seseray\n\n\n\n\n\n\n\n\nSdri. Ruth Fakdawer\n\n\n\n\n\n\nPel : Sym. Aksamina F. Nusa\nPel : Pnt. Eduard Sroyer\nPel : Pnt. Anobo Weyai
URL:https://gki-iat.org/kegiatan/ibadah-pam-73/
LOCATION:Papua
CATEGORIES:ibadah PAM
END:VEVENT
BEGIN:VEVENT
DTSTART;TZID=Asia/Jayapura:20250605T190000
DTEND;TZID=Asia/Jayapura:20250605T203000
DTSTAMP:20260422T001646
CREATED:20250531T065809Z
LAST-MODIFIED:20250531T070021Z
UID:17968-1749150000-1749155400@gki-iat.org
SUMMARY:Ibadah PAM (gabungan)
DESCRIPTION:Pelayan Firman: Sym. M. J. Kespo
URL:https://gki-iat.org/kegiatan/ibadah-pam-gabungan-19/
LOCATION:Gedung Gereja GKI Immanuel APO Tugu\, FP73+M3G\, Kota Jayapura\, Papua\, 99112\, Indonesia
CATEGORIES:ibadah PAM
END:VEVENT
BEGIN:VEVENT
DTSTART;TZID=Asia/Jayapura:20250522T190000
DTEND;TZID=Asia/Jayapura:20250522T203000
DTSTAMP:20260422T001646
CREATED:20250517T050754Z
LAST-MODIFIED:20250517T051325Z
UID:17864-1747940400-1747945800@gki-iat.org
SUMMARY:Ibadah PAM
DESCRIPTION:Rayon 1\nRayon 2\nRayon 3\n\n\nSdr. Anugra Dwi\nSdr. Andri\, Alfian\, Arnold. T\nSdr. Tenri\, Tesya\, Telma\n\n\nPel : Pnt. Yustina Hursepuny\nPel : Pnt. Servin S. Rombe\nPel : Pnt. Max Samara
URL:https://gki-iat.org/kegiatan/ibadah-pam-72/
LOCATION:Papua
CATEGORIES:ibadah PAM
END:VEVENT
BEGIN:VEVENT
DTSTART;TZID=Asia/Jayapura:20250515T190000
DTEND;TZID=Asia/Jayapura:20250515T203000
DTSTAMP:20260422T001646
CREATED:20250509T020913Z
LAST-MODIFIED:20250511T004844Z
UID:17755-1747335600-1747341000@gki-iat.org
SUMMARY:Ibadah PAM
DESCRIPTION:RAYON 1\nRAYON 2\nRAYON 3\n\n\n\n\n\n\nSdr. Ramses Korwa\n\n\n\n\n\n\n\n\nSdri. Cantika Dusay\n\n\n\n\n\n\n\n\nSdr. Marcorius Sarungngu\n\n\n\n\n\n\nPel : Pnt. Eduard Sroyer\nPel : Pnt. Oktovianus Hembring\nPel : Sym. Alprida Kulla’
URL:https://gki-iat.org/kegiatan/ibadah-pam-71/
LOCATION:Papua
CATEGORIES:ibadah PAM
END:VEVENT
BEGIN:VEVENT
DTSTART;TZID=Asia/Jayapura:20250508T190000
DTEND;TZID=Asia/Jayapura:20250508T203000
DTSTAMP:20260422T001646
CREATED:20250503T230721Z
LAST-MODIFIED:20250503T230822Z
UID:17729-1746730800-1746736200@gki-iat.org
SUMMARY:Ibadah PAM
DESCRIPTION:RAYON 1\nRAYON 2\nRAYON 3\n\n\n Sdr. Habel\, Stevi\, Kevin M.\nRibka\, Luis\, Enggel W.\nEka Ibo\, Putri T\n\n\nPel : Pnt Anobo Weyai\nPel : Pnt. Oktovianus Hembring\nPel : Pnt. Max Samara
URL:https://gki-iat.org/kegiatan/ibadah-pam-70/
LOCATION:Papua
CATEGORIES:ibadah PAM
END:VEVENT
BEGIN:VEVENT
DTSTART;TZID=Asia/Jayapura:20250501T190000
DTEND;TZID=Asia/Jayapura:20250501T203000
DTSTAMP:20260422T001646
CREATED:20250426T065403Z
LAST-MODIFIED:20250426T073107Z
UID:17691-1746126000-1746131400@gki-iat.org
SUMMARY:Ibadah PAM (gabungan)
DESCRIPTION:Pelayan Firman: Pnt. Alfius Pangemanan
URL:https://gki-iat.org/kegiatan/ibadah-pam-gabungan-18/
LOCATION:Gedung Gereja GKI Immanuel APO Tugu\, FP73+M3G\, Kota Jayapura\, Papua\, 99112\, Indonesia
CATEGORIES:ibadah PAM
END:VEVENT
BEGIN:VEVENT
DTSTART;TZID=Asia/Jayapura:20250424T190000
DTEND;TZID=Asia/Jayapura:20250424T203000
DTSTAMP:20260422T001646
CREATED:20250419T152416Z
LAST-MODIFIED:20250419T152416Z
UID:17600-1745521200-1745526600@gki-iat.org
SUMMARY:Ibadah PAM
DESCRIPTION:RAYON 1\nRAYON 2\nRAYON 3\n\n\n\n\n\n\n Sdr. Verli Latupeirissa\n\n\n\n\n\n\n\n\nSdr. Yohana & Valentio Kespo\n\n\n\n\n\n\n\n\nSdri Desi & Desriani\n\n\n\n\n\n\nPel : Pnt Popy Nuniari\nPel : Pnt Eduard Sroyer\nPel : Pdt. Johni Ronny Seo\, S.Th
URL:https://gki-iat.org/kegiatan/ibadah-pam-69/
LOCATION:Papua
CATEGORIES:ibadah PAM
END:VEVENT
BEGIN:VEVENT
DTSTART;TZID=Asia/Jayapura:20250417T190000
DTEND;TZID=Asia/Jayapura:20250417T203000
DTSTAMP:20260422T001646
CREATED:20250412T094012Z
LAST-MODIFIED:20250412T094012Z
UID:17464-1744916400-1744921800@gki-iat.org
SUMMARY:Ibadah PAM
DESCRIPTION:RAYON 1\n\n\n\n\n\n\n\n\nRAYON 2\n\n\n\n\nRAYON 3\n\n\n\n\n\n\n Sdri. Lala Msen\n\n\n\n\n\n\n\n\nSdri. Alencia\n\n\n\n\n\n\n\n\nSdr. Harpan & Harpin\n\n\n\n\n\n\nPel : Pnt. Yustina Hursepuny\nPel : Pnt. Servin Sama Rombe\nPel : Pnt. Max Samara
URL:https://gki-iat.org/kegiatan/ibadah-pam-68/
LOCATION:Papua
CATEGORIES:ibadah PAM
END:VEVENT
BEGIN:VEVENT
DTSTART;TZID=Asia/Jayapura:20250410T190000
DTEND;TZID=Asia/Jayapura:20250410T203000
DTSTAMP:20260422T001646
CREATED:20250405T020332Z
LAST-MODIFIED:20250406T054818Z
UID:17358-1744311600-1744317000@gki-iat.org
SUMMARY:Ibadah PAM
DESCRIPTION:RAYON 1\nRAYON 2\nRAYON 3\n\n\n\n\n\n\n Sdr. Yandri Hendriks\n\n\n\n\n\n\n\n\nJacky & Rahel Mandowally\n\n\n\n\n\n\n\n\nPutra & Yolanda Sanda\n\n\n\n\n\n\nPel : Pnt. Anobo Weyai\nPel : Pnt. Oktovianus Hembring\nPel : Sym. Alprida Kulla’
URL:https://gki-iat.org/kegiatan/ibadah-pam-67/
LOCATION:Papua
CATEGORIES:ibadah PAM
END:VEVENT
END:VCALENDAR