BEGIN:VCALENDAR
VERSION:2.0
PRODID:-//GKI Immanuel APO Tugu - ECPv6.11.2.1//NONSGML v1.0//EN
CALSCALE:GREGORIAN
METHOD:PUBLISH
X-WR-CALNAME:GKI Immanuel APO Tugu
X-ORIGINAL-URL:https://gki-iat.org
X-WR-CALDESC:Events for GKI Immanuel APO Tugu
REFRESH-INTERVAL;VALUE=DURATION:PT1H
X-Robots-Tag:noindex
X-PUBLISHED-TTL:PT1H
BEGIN:VTIMEZONE
TZID:Asia/Jayapura
BEGIN:STANDARD
TZOFFSETFROM:+0900
TZOFFSETTO:+0900
TZNAME:WIT
DTSTART:20260101T000000
END:STANDARD
END:VTIMEZONE
BEGIN:VEVENT
DTSTART;TZID=Asia/Jayapura:20260416T190000
DTEND;TZID=Asia/Jayapura:20260416T203000
DTSTAMP:20260423T075215
CREATED:20260413T044515Z
LAST-MODIFIED:20260413T044515Z
UID:21203-1776366000-1776371400@gki-iat.org
SUMMARY:Ibadah PAM
DESCRIPTION:RAYON 1\nRAYON 2\nRAYON 3\n\n\n\n\n\n\nSdr. Marthin & Mario Nuniary\n\n\n\n\n\n\n\n\nSdri. Yohana Kespo dan Adik2\n\n\n\n\n\n\n\n\nSdr. Virgo dan Adik2\n\n\n\n\n\n\nPel : Sym. Rita Sari\nPel : Sym. Karlan A. Maniani\nPel : Sym. Yuharni
URL:https://gki-iat.org/kegiatan/ibadah-pam-99/
LOCATION:Papua
CATEGORIES:ibadah PAM
END:VEVENT
BEGIN:VEVENT
DTSTART;TZID=Asia/Jayapura:20260419T130000
DTEND;TZID=Asia/Jayapura:20260419T150000
DTSTAMP:20260423T075215
CREATED:20260418T110625Z
LAST-MODIFIED:20260418T111323Z
UID:21221-1776603600-1776610800@gki-iat.org
SUMMARY:Ibadah PAM Klasis se-Lingkungan B Port Numbay
DESCRIPTION:
URL:https://gki-iat.org/kegiatan/ibadah-pam-klasis-port-numbay-se-lingkungan-b/
LOCATION:Gedung Gereja GKI Immanuel APO Tugu\, FP73+M3G\, Kota Jayapura\, Papua\, 99112\, Indonesia
CATEGORIES:ibadah PAM
END:VEVENT
END:VCALENDAR