BEGIN:VCALENDAR
VERSION:2.0
PRODID:-//GKI Immanuel APO Tugu - ECPv6.11.2.1//NONSGML v1.0//EN
CALSCALE:GREGORIAN
METHOD:PUBLISH
X-WR-CALNAME:GKI Immanuel APO Tugu
X-ORIGINAL-URL:https://gki-iat.org
X-WR-CALDESC:Events for GKI Immanuel APO Tugu
REFRESH-INTERVAL;VALUE=DURATION:PT1H
X-Robots-Tag:noindex
X-PUBLISHED-TTL:PT1H
BEGIN:VTIMEZONE
TZID:Asia/Jayapura
BEGIN:STANDARD
TZOFFSETFROM:+0900
TZOFFSETTO:+0900
TZNAME:WIT
DTSTART:20240101T000000
END:STANDARD
END:VTIMEZONE
BEGIN:VEVENT
DTSTART;TZID=Asia/Jayapura:20241012T090000
DTEND;TZID=Asia/Jayapura:20241012T170000
DTSTAMP:20260420T002436
CREATED:20241019T052449Z
LAST-MODIFIED:20241019T052508Z
UID:14059-1728723600-1728752400@gki-iat.org
SUMMARY:Persiapan penyangga pohon sagu
DESCRIPTION:All Dokumentasi
URL:https://gki-iat.org/kegiatan/persiapan-penyangga-pohon-sagu/
LOCATION:Papua
CATEGORIES:Kerja Bhakti
ATTACH;FMTTYPE=image/jpeg:https://gki-iat.org/wp-content/uploads/2024/10/persisapan-penyangga-pohon-sagu-12-okt-2024-4.jpg
END:VEVENT
BEGIN:VEVENT
DTSTART;TZID=Asia/Jayapura:20241019T080000
DTEND;TZID=Asia/Jayapura:20241019T170000
DTSTAMP:20260420T002436
CREATED:20241019T052656Z
LAST-MODIFIED:20241019T100118Z
UID:14062-1729324800-1729357200@gki-iat.org
SUMMARY:Penanaman Bibit Pohon Sagu
DESCRIPTION:Area: Mata air (Perbatasan rayon Kanaan dan Hermon) \n\n		\n			gallery
URL:https://gki-iat.org/kegiatan/penanaman-bibit-pohon-sagu/
LOCATION:Papua
CATEGORIES:Kerja Bhakti
ATTACH;FMTTYPE=image/jpeg:https://gki-iat.org/wp-content/uploads/2024/09/DSC_6849-scaled.jpg
END:VEVENT
END:VCALENDAR