BEGIN:VCALENDAR
VERSION:2.0
PRODID:-//GKI Immanuel APO Tugu - ECPv6.11.2.1//NONSGML v1.0//EN
CALSCALE:GREGORIAN
METHOD:PUBLISH
X-ORIGINAL-URL:https://gki-iat.org
X-WR-CALDESC:Events for GKI Immanuel APO Tugu
REFRESH-INTERVAL;VALUE=DURATION:PT1H
X-Robots-Tag:noindex
X-PUBLISHED-TTL:PT1H
BEGIN:VTIMEZONE
TZID:Asia/Jayapura
BEGIN:STANDARD
TZOFFSETFROM:+0900
TZOFFSETTO:+0900
TZNAME:WIT
DTSTART:20250101T000000
END:STANDARD
END:VTIMEZONE
BEGIN:VEVENT
DTSTART;TZID=Asia/Jayapura:20251224T150000
DTEND;TZID=Asia/Jayapura:20251224T170000
DTSTAMP:20260421T112520
CREATED:20251122T090615Z
LAST-MODIFIED:20251227T020457Z
UID:20101-1766588400-1766595600@gki-iat.org
SUMMARY:Malam Kudus I
DESCRIPTION:  \nPengisi Pujian dari Rayon Hermon
URL:https://gki-iat.org/kegiatan/malam-kudus-i-4/
LOCATION:Gedung Gereja GKI Immanuel APO Tugu\, FP73+M3G\, Kota Jayapura\, Papua\, 99112\, Indonesia
CATEGORIES:Malam Kudus
END:VEVENT
BEGIN:VEVENT
DTSTART;TZID=Asia/Jayapura:20251224T190000
DTEND;TZID=Asia/Jayapura:20251224T210000
DTSTAMP:20260421T112520
CREATED:20251122T090725Z
LAST-MODIFIED:20251227T020436Z
UID:20103-1766602800-1766610000@gki-iat.org
SUMMARY:Malam Kudus II
DESCRIPTION:  \nPengisi Pujian  dari Rayon Elim
URL:https://gki-iat.org/kegiatan/malam-kudus-ii-3/
LOCATION:Gedung Gereja GKI Immanuel APO Tugu\, FP73+M3G\, Kota Jayapura\, Papua\, 99112\, Indonesia
CATEGORIES:Malam Kudus
END:VEVENT
END:VCALENDAR